BEGIN:VCALENDAR
VERSION:2.0
PRODID:-//Liceo Montería - ECPv5.16.4//NONSGML v1.0//EN
CALSCALE:GREGORIAN
METHOD:PUBLISH
X-ORIGINAL-URL:https://www.liceomonteria.edu.co
X-WR-CALDESC:Events for Liceo Montería
REFRESH-INTERVAL;VALUE=DURATION:PT1H
X-Robots-Tag:noindex
X-PUBLISHED-TTL:PT1H
BEGIN:VTIMEZONE
TZID:America/New_York
BEGIN:DAYLIGHT
TZOFFSETFROM:-0500
TZOFFSETTO:-0400
TZNAME:EDT
DTSTART:20220313T070000
END:DAYLIGHT
BEGIN:STANDARD
TZOFFSETFROM:-0400
TZOFFSETTO:-0500
TZNAME:EST
DTSTART:20221106T060000
END:STANDARD
END:VTIMEZONE
BEGIN:VEVENT
DTSTART;TZID=America/New_York:20221026T070000
DTEND;TZID=America/New_York:20221101T143000
DTSTAMP:20260421T121039
CREATED:20221102T180004Z
LAST-MODIFIED:20221102T180004Z
UID:3789-1666767600-1667313000@www.liceomonteria.edu.co
SUMMARY:Actividades Complementarias 4.º período.
DESCRIPTION:Actividades Complementarias 4.º período.
URL:https://www.liceomonteria.edu.co/evento/actividades-complementarias-4-o-periodo/
END:VEVENT
BEGIN:VEVENT
DTSTART;TZID=America/New_York:20221028T113000
DTEND;TZID=America/New_York:20221028T143000
DTSTAMP:20260421T121039
CREATED:20221102T175717Z
LAST-MODIFIED:20221102T175717Z
UID:3785-1666956600-1666967400@www.liceomonteria.edu.co
SUMMARY:Reunión de Comités de Evaluación y Promoción 4.º período. 6.ª - 8.ª hora
DESCRIPTION:Reunión de Comités de Evaluación y Promoción 4.º período.\n6.ª – 8.ª hora
URL:https://www.liceomonteria.edu.co/evento/reunion-de-comites-de-evaluacion-y-promocion-4-o-periodo-6-a-8-a-hora/
END:VEVENT
END:VCALENDAR