BEGIN:VCALENDAR
VERSION:2.0
PRODID:-//Liceo Montería - ECPv5.16.4//NONSGML v1.0//EN
CALSCALE:GREGORIAN
METHOD:PUBLISH
X-ORIGINAL-URL:https://www.liceomonteria.edu.co
X-WR-CALDESC:Events for Liceo Montería
REFRESH-INTERVAL;VALUE=DURATION:PT1H
X-Robots-Tag:noindex
X-PUBLISHED-TTL:PT1H
BEGIN:VTIMEZONE
TZID:America/New_York
BEGIN:DAYLIGHT
TZOFFSETFROM:-0500
TZOFFSETTO:-0400
TZNAME:EDT
DTSTART:20220313T070000
END:DAYLIGHT
BEGIN:STANDARD
TZOFFSETFROM:-0400
TZOFFSETTO:-0500
TZNAME:EST
DTSTART:20221106T060000
END:STANDARD
END:VTIMEZONE
BEGIN:VEVENT
DTSTART;TZID=America/New_York:20221118T070000
DTEND;TZID=America/New_York:20221130T143000
DTSTAMP:20260421T134244
CREATED:20221102T175359Z
LAST-MODIFIED:20221102T175359Z
UID:3781-1668754800-1669818600@www.liceomonteria.edu.co
SUMMARY:Actividades de Superación.
DESCRIPTION:Actividades de Superación.
URL:https://www.liceomonteria.edu.co/evento/actividades-de-superacion/
END:VEVENT
END:VCALENDAR