BEGIN:VCALENDAR
VERSION:2.0
PRODID:-//Liceo Montería - ECPv5.16.4//NONSGML v1.0//EN
CALSCALE:GREGORIAN
METHOD:PUBLISH
X-WR-CALNAME:Liceo Montería
X-ORIGINAL-URL:https://www.liceomonteria.edu.co
X-WR-CALDESC:Events for Liceo Montería
REFRESH-INTERVAL;VALUE=DURATION:PT1H
X-Robots-Tag:noindex
X-PUBLISHED-TTL:PT1H
BEGIN:VTIMEZONE
TZID:America/New_York
BEGIN:DAYLIGHT
TZOFFSETFROM:-0500
TZOFFSETTO:-0400
TZNAME:EDT
DTSTART:20230312T070000
END:DAYLIGHT
BEGIN:STANDARD
TZOFFSETFROM:-0400
TZOFFSETTO:-0500
TZNAME:EST
DTSTART:20231105T060000
END:STANDARD
END:VTIMEZONE
BEGIN:VEVENT
DTSTART;TZID=America/New_York:20230131T063000
DTEND;TZID=America/New_York:20230131T143000
DTSTAMP:20260421T170728
CREATED:20230214T143259Z
LAST-MODIFIED:20230214T143259Z
UID:4092-1675146600-1675175400@www.liceomonteria.edu.co
SUMMARY:Inducción General a estudiantes todos los niveles - Reunión General de Profesores - Reunión Padres de Familia de estudiantes nuevos
DESCRIPTION:Enero 31\n-Inducción General a estudiantes todos los niveles. 6:30 a.m.-10:30 a.m.\n-Reunión General de Profesores.11:00 a.m-12:00 m.\n-Reunión Padres de Familia de estudiantes nuevos.12:30 p.m.-2:00 p.m.
URL:https://www.liceomonteria.edu.co/evento/induccion-general-a-estudiantes-todos-los-niveles-reunion-general-de-profesores-reunion-padres-de-familia-de-estudiantes-nuevos/
END:VEVENT
END:VCALENDAR