BEGIN:VCALENDAR
VERSION:2.0
PRODID:-//Liceo Montería - ECPv5.16.4//NONSGML v1.0//EN
CALSCALE:GREGORIAN
METHOD:PUBLISH
X-ORIGINAL-URL:https://www.liceomonteria.edu.co
X-WR-CALDESC:Events for Liceo Montería
REFRESH-INTERVAL;VALUE=DURATION:PT1H
X-Robots-Tag:noindex
X-PUBLISHED-TTL:PT1H
BEGIN:VTIMEZONE
TZID:America/New_York
BEGIN:DAYLIGHT
TZOFFSETFROM:-0500
TZOFFSETTO:-0400
TZNAME:EDT
DTSTART:20230312T070000
END:DAYLIGHT
BEGIN:STANDARD
TZOFFSETFROM:-0400
TZOFFSETTO:-0500
TZNAME:EST
DTSTART:20231105T060000
END:STANDARD
END:VTIMEZONE
BEGIN:VEVENT
DTSTART;TZID=America/New_York:20230206T063000
DTEND;TZID=America/New_York:20230206T143000
DTSTAMP:20260421T184037
CREATED:20230214T151318Z
LAST-MODIFIED:20230214T151318Z
UID:4097-1675665000-1675693800@www.liceomonteria.edu.co
SUMMARY:Santa Misa- 1.ª hora - Inicio de clases Preescolar - Según horario
DESCRIPTION:Febrero 6 \nSanta Misa – 1.ª hora\nInicio de clases Preescolar – Según horario
URL:https://www.liceomonteria.edu.co/evento/santa-misa-1-a-hora-inicio-de-clases-preescolar-segun-horario/
END:VEVENT
END:VCALENDAR