BEGIN:VCALENDAR
VERSION:2.0
PRODID:-//Liceo Montería - ECPv5.16.4//NONSGML v1.0//EN
CALSCALE:GREGORIAN
METHOD:PUBLISH
X-ORIGINAL-URL:https://www.liceomonteria.edu.co
X-WR-CALDESC:Events for Liceo Montería
REFRESH-INTERVAL;VALUE=DURATION:PT1H
X-Robots-Tag:noindex
X-PUBLISHED-TTL:PT1H
BEGIN:VTIMEZONE
TZID:America/New_York
BEGIN:DAYLIGHT
TZOFFSETFROM:-0500
TZOFFSETTO:-0400
TZNAME:EDT
DTSTART:20230312T070000
END:DAYLIGHT
BEGIN:STANDARD
TZOFFSETFROM:-0400
TZOFFSETTO:-0500
TZNAME:EST
DTSTART:20231105T060000
END:STANDARD
END:VTIMEZONE
BEGIN:VEVENT
DTSTART;TZID=America/New_York:20230301T063000
DTEND;TZID=America/New_York:20230314T143000
DTSTAMP:20260422T011611
CREATED:20230214T152010Z
LAST-MODIFIED:20230214T152010Z
UID:4103-1677652200-1678804200@www.liceomonteria.edu.co
SUMMARY:Campaña electoral
DESCRIPTION:Marzo 1-14\nCampaña electoral
URL:https://www.liceomonteria.edu.co/evento/campana-electoral-2/
END:VEVENT
BEGIN:VEVENT
DTSTART;TZID=America/New_York:20230309T063000
DTEND;TZID=America/New_York:20230309T203000
DTSTAMP:20260422T011611
CREATED:20230214T152409Z
LAST-MODIFIED:20230214T152920Z
UID:4109-1678343400-1678393800@www.liceomonteria.edu.co
SUMMARY:Acto Cívico Grado 11.º 1.ª hora
DESCRIPTION:Marzo 9\nActo Cívico Grado 11.º\n1.ª hora
URL:https://www.liceomonteria.edu.co/evento/acto-civico-grado-11-o-1-a-hora-2/
END:VEVENT
END:VCALENDAR