BEGIN:VCALENDAR
VERSION:2.0
PRODID:-//Liceo Montería - ECPv5.16.4//NONSGML v1.0//EN
CALSCALE:GREGORIAN
METHOD:PUBLISH
X-WR-CALNAME:Liceo Montería
X-ORIGINAL-URL:https://www.liceomonteria.edu.co
X-WR-CALDESC:Events for Liceo Montería
REFRESH-INTERVAL;VALUE=DURATION:PT1H
X-Robots-Tag:noindex
X-PUBLISHED-TTL:PT1H
BEGIN:VTIMEZONE
TZID:America/New_York
BEGIN:DAYLIGHT
TZOFFSETFROM:-0500
TZOFFSETTO:-0400
TZNAME:EDT
DTSTART:20240310T070000
END:DAYLIGHT
BEGIN:STANDARD
TZOFFSETFROM:-0400
TZOFFSETTO:-0500
TZNAME:EST
DTSTART:20241103T060000
END:STANDARD
END:VTIMEZONE
BEGIN:VEVENT
DTSTART;TZID=America/New_York:20240523T063000
DTEND;TZID=America/New_York:20240530T143000
DTSTAMP:20260419T104713
CREATED:20240424T133512Z
LAST-MODIFIED:20240424T133512Z
UID:5944-1716445800-1717079400@www.liceomonteria.edu.co
SUMMARY:PERIODO II: Actividades Complementarias 2.º período.
DESCRIPTION:Actividades Complementarias 2.º período. \nJornada completa \nRESPONSABLES: Docentes
URL:https://www.liceomonteria.edu.co/evento/periodo-ii-actividades-complementarias-2-o-periodo/
END:VEVENT
BEGIN:VEVENT
DTSTART;TZID=America/New_York:20240525T063000
DTEND;TZID=America/New_York:20240607T143000
DTSTAMP:20260419T104713
CREATED:20240424T133830Z
LAST-MODIFIED:20240424T133830Z
UID:5946-1716618600-1717770600@www.liceomonteria.edu.co
SUMMARY:PERIODO II: Digitación de notas 2.º período
DESCRIPTION:Digitación de notas 2.º período \nhttps://liceomonteria.educa.city/ \nJornada completa \nRESPONSABLES: Docentes
URL:https://www.liceomonteria.edu.co/evento/periodo-ii-digitacion-de-notas-2-o-periodo/
END:VEVENT
END:VCALENDAR