BEGIN:VCALENDAR
VERSION:2.0
PRODID:-//Liceo Montería - ECPv5.16.4//NONSGML v1.0//EN
CALSCALE:GREGORIAN
METHOD:PUBLISH
X-ORIGINAL-URL:https://www.liceomonteria.edu.co
X-WR-CALDESC:Events for Liceo Montería
REFRESH-INTERVAL;VALUE=DURATION:PT1H
X-Robots-Tag:noindex
X-PUBLISHED-TTL:PT1H
BEGIN:VTIMEZONE
TZID:America/New_York
BEGIN:DAYLIGHT
TZOFFSETFROM:-0500
TZOFFSETTO:-0400
TZNAME:EDT
DTSTART:20240310T070000
END:DAYLIGHT
BEGIN:STANDARD
TZOFFSETFROM:-0400
TZOFFSETTO:-0500
TZNAME:EST
DTSTART:20241103T060000
END:STANDARD
END:VTIMEZONE
BEGIN:VEVENT
DTSTART;TZID=America/New_York:20240725T063000
DTEND;TZID=America/New_York:20240725T143000
DTSTAMP:20260421T184112
CREATED:20240617T160724Z
LAST-MODIFIED:20240617T160724Z
UID:6050-1721889000-1721917800@www.liceomonteria.edu.co
SUMMARY:🟢PERIODO III: ✍Edición de Horizonte Liceísta. Grado 8.º- 9.º
DESCRIPTION:ACTIVIDAD: \n\n✍Edición de Horizonte Liceísta. Grado 8.º- 9.º\nhttps://www.liceomonteria.edu.co/horizonte-liceista/\n\nRESPONSABLES: \n\nArleth Gutiérrez Y grupos\n\n 
URL:https://www.liceomonteria.edu.co/evento/%f0%9f%9f%a2periodo-iii-%e2%9c%8dedicion-de-horizonte-liceista-grado-8-o-9-o/
END:VEVENT
BEGIN:VEVENT
DTSTART;TZID=America/New_York:20240725T070000
DTEND;TZID=America/New_York:20240725T080000
DTSTAMP:20260421T184112
CREATED:20240617T155918Z
LAST-MODIFIED:20240617T160237Z
UID:6047-1721890800-1721894400@www.liceomonteria.edu.co
SUMMARY:🟢PERIODO III: 👉Acto Cívico Grado 8.º. 1.ª hora
DESCRIPTION:ACTIVIDAD: \n\nActo Cívico Grado 8.º\n\nRESPONSABLE: \n\nDirectores de grupo
URL:https://www.liceomonteria.edu.co/evento/%f0%9f%9f%a2periodo-iii-acto-civico-grado-8-o-1-a-hora/
END:VEVENT
END:VCALENDAR