BEGIN:VCALENDAR
VERSION:2.0
PRODID:-//Liceo Montería - ECPv5.16.4//NONSGML v1.0//EN
CALSCALE:GREGORIAN
METHOD:PUBLISH
X-WR-CALNAME:Liceo Montería
X-ORIGINAL-URL:https://www.liceomonteria.edu.co
X-WR-CALDESC:Events for Liceo Montería
REFRESH-INTERVAL;VALUE=DURATION:PT1H
X-Robots-Tag:noindex
X-PUBLISHED-TTL:PT1H
BEGIN:VTIMEZONE
TZID:America/New_York
BEGIN:DAYLIGHT
TZOFFSETFROM:-0500
TZOFFSETTO:-0400
TZNAME:EDT
DTSTART:20240310T070000
END:DAYLIGHT
BEGIN:STANDARD
TZOFFSETFROM:-0400
TZOFFSETTO:-0500
TZNAME:EST
DTSTART:20241103T060000
END:STANDARD
END:VTIMEZONE
BEGIN:VEVENT
DTSTART;TZID=America/New_York:20240806T070000
DTEND;TZID=America/New_York:20240806T080000
DTSTAMP:20260421T170656
CREATED:20240617T161104Z
LAST-MODIFIED:20240617T161104Z
UID:6052-1722927600-1722931200@www.liceomonteria.edu.co
SUMMARY:🟢PERIODO III: 🙏Santa Misa. 1.ª hora
DESCRIPTION:ACTIVIDAD: \n\n🙏Santa Misa\n\nRESPONSABLE: \n\nPaula Arias
URL:https://www.liceomonteria.edu.co/evento/%f0%9f%9f%a2periodo-iii-%f0%9f%99%8fsanta-misa-1-a-hora/
END:VEVENT
END:VCALENDAR