BEGIN:VCALENDAR
VERSION:2.0
PRODID:-//Liceo Montería - ECPv5.16.4//NONSGML v1.0//EN
CALSCALE:GREGORIAN
METHOD:PUBLISH
X-WR-CALNAME:Liceo Montería
X-ORIGINAL-URL:https://www.liceomonteria.edu.co
X-WR-CALDESC:Events for Liceo Montería
REFRESH-INTERVAL;VALUE=DURATION:PT1H
X-Robots-Tag:noindex
X-PUBLISHED-TTL:PT1H
BEGIN:VTIMEZONE
TZID:America/New_York
BEGIN:DAYLIGHT
TZOFFSETFROM:-0500
TZOFFSETTO:-0400
TZNAME:EDT
DTSTART:20240310T070000
END:DAYLIGHT
BEGIN:STANDARD
TZOFFSETFROM:-0400
TZOFFSETTO:-0500
TZNAME:EST
DTSTART:20241103T060000
END:STANDARD
END:VTIMEZONE
BEGIN:VEVENT
DTSTART;TZID=America/New_York:20240820T063000
DTEND;TZID=America/New_York:20240902T143000
DTSTAMP:20260421T152245
CREATED:20240617T162458Z
LAST-MODIFIED:20240617T162816Z
UID:6058-1724135400-1725287400@www.liceomonteria.edu.co
SUMMARY:🟢PERIODO III: 👨‍💻Digitación de notas 3.er período. Jornada completa
DESCRIPTION:ACTIVIDAD: \n\n👨‍💻 Digitación de notas 3.er período. Jornada completa\nhttps://liceomonteria.educa.city/\n\nRESPONSABLES: \n\nDocentes
URL:https://www.liceomonteria.edu.co/evento/%f0%9f%9f%a2periodo-iii-%f0%9f%92%bbdigitacion-de-notas-3-er-periodo-jornada-completa/
END:VEVENT
BEGIN:VEVENT
DTSTART;TZID=America/New_York:20240826T070000
DTEND;TZID=America/New_York:20240830T143000
DTSTAMP:20260421T152245
CREATED:20240617T163130Z
LAST-MODIFIED:20240617T163130Z
UID:6062-1724655600-1725028200@www.liceomonteria.edu.co
SUMMARY:🟢PERIODO III: 📝Evaluaciones Acumulativas de 3.er período. Jornada completa
DESCRIPTION:ACTIVIDAD:  \n\n📝Evaluaciones Acumulativas de 3.er período. Jornada completa\n\nRESPONSABLES: \n\nDocentes
URL:https://www.liceomonteria.edu.co/evento/%f0%9f%9f%a2periodo-iii-%f0%9f%93%9devaluaciones-acumulativas-de-3-er-periodo-jornada-completa/
END:VEVENT
BEGIN:VEVENT
DTSTART;TZID=America/New_York:20240827T070000
DTEND;TZID=America/New_York:20240827T143000
DTSTAMP:20260421T152245
CREATED:20240617T163553Z
LAST-MODIFIED:20240617T163553Z
UID:6064-1724742000-1724769000@www.liceomonteria.edu.co
SUMMARY:🟢PERIODO III: ✍Edición de Horizonte Liceísta. Grado 6.º- 7.º - Jornada completa
DESCRIPTION:ACTIVIDAD: \n\n ✍Edición de Horizonte Liceísta. Grado 6.º- 7.º  – Jornada completa.\nhttps://www.liceomonteria.edu.co/horizonte-liceista/\n\nRESPONSABLES: \n\nArleth Gutiérrez y grupos.
URL:https://www.liceomonteria.edu.co/evento/%f0%9f%9f%a2periodo-iii-%e2%9c%8dedicion-de-horizonte-liceista-grado-6-o-7-o-jornada-completa/
END:VEVENT
END:VCALENDAR