BEGIN:VCALENDAR
VERSION:2.0
PRODID:-//Liceo Montería - ECPv5.16.4//NONSGML v1.0//EN
CALSCALE:GREGORIAN
METHOD:PUBLISH
X-WR-CALNAME:Liceo Montería
X-ORIGINAL-URL:https://www.liceomonteria.edu.co
X-WR-CALDESC:Events for Liceo Montería
REFRESH-INTERVAL;VALUE=DURATION:PT1H
X-Robots-Tag:noindex
X-PUBLISHED-TTL:PT1H
BEGIN:VTIMEZONE
TZID:America/New_York
BEGIN:DAYLIGHT
TZOFFSETFROM:-0500
TZOFFSETTO:-0400
TZNAME:EDT
DTSTART:20230312T070000
END:DAYLIGHT
BEGIN:STANDARD
TZOFFSETFROM:-0400
TZOFFSETTO:-0500
TZNAME:EST
DTSTART:20231105T060000
END:STANDARD
END:VTIMEZONE
BEGIN:VEVENT
DTSTART;TZID=America/New_York:20230213T183000
DTEND;TZID=America/New_York:20230213T200000
DTSTAMP:20260421T220557
CREATED:20230214T151414Z
LAST-MODIFIED:20230214T165941Z
UID:4099-1676313000-1676318400@www.liceomonteria.edu.co
SUMMARY:Reunión General de Padres de Familia
DESCRIPTION:Febrero 15\nReunión General de Padres de Familia\n6:15 p.m.
URL:https://www.liceomonteria.edu.co/evento/reunion-general-de-padres-de-familia/
END:VEVENT
BEGIN:VEVENT
DTSTART;TZID=America/New_York:20230221T063000
DTEND;TZID=America/New_York:20230221T143000
DTSTAMP:20260421T220557
CREATED:20230214T151854Z
LAST-MODIFIED:20230214T151854Z
UID:4101-1676961000-1676989800@www.liceomonteria.edu.co
SUMMARY:Edición de Horizonte Liceísta. Directivas y profesores
DESCRIPTION:Febrero 21\nEdición de Horizonte Liceísta. Directivas y profesores
URL:https://www.liceomonteria.edu.co/evento/edicion-de-horizonte-liceista-directivas-y-profesores-2/
END:VEVENT
BEGIN:VEVENT
DTSTART;TZID=America/New_York:20230301T063000
DTEND;TZID=America/New_York:20230301T143000
DTSTAMP:20260421T220557
CREATED:20230214T152141Z
LAST-MODIFIED:20230214T152141Z
UID:4105-1677652200-1677681000@www.liceomonteria.edu.co
SUMMARY:Reunión de Padres de Familia por grados - Reunión general de profesores y reuniones por áreas.
DESCRIPTION:Marzo 1\nReunión de Padres de Familia por grados. 7:00 a.m.-9:00 a.m.\nReunión general de profesores y reuniones por áreas. 10:00 a.m.-2:25 p.m.
URL:https://www.liceomonteria.edu.co/evento/reunion-de-padres-de-familia-por-grados-reunion-general-de-profesores-y-reuniones-por-areas/
END:VEVENT
BEGIN:VEVENT
DTSTART;TZID=America/New_York:20230301T063000
DTEND;TZID=America/New_York:20230314T143000
DTSTAMP:20260421T220557
CREATED:20230214T152010Z
LAST-MODIFIED:20230214T152010Z
UID:4103-1677652200-1678804200@www.liceomonteria.edu.co
SUMMARY:Campaña electoral
DESCRIPTION:Marzo 1-14\nCampaña electoral
URL:https://www.liceomonteria.edu.co/evento/campana-electoral-2/
END:VEVENT
BEGIN:VEVENT
DTSTART;TZID=America/New_York:20230307T063000
DTEND;TZID=America/New_York:20230307T080000
DTSTAMP:20260421T220557
CREATED:20230214T152257Z
LAST-MODIFIED:20230214T152257Z
UID:4107-1678170600-1678176000@www.liceomonteria.edu.co
SUMMARY:Santa Misa 1.ª hora
DESCRIPTION:Marzo 7\nSanta Misa\n1.ª hora
URL:https://www.liceomonteria.edu.co/evento/santa-misa-1-a-hora-4/
END:VEVENT
BEGIN:VEVENT
DTSTART;TZID=America/New_York:20230309T063000
DTEND;TZID=America/New_York:20230309T203000
DTSTAMP:20260421T220557
CREATED:20230214T152409Z
LAST-MODIFIED:20230214T152920Z
UID:4109-1678343400-1678393800@www.liceomonteria.edu.co
SUMMARY:Acto Cívico Grado 11.º 1.ª hora
DESCRIPTION:Marzo 9\nActo Cívico Grado 11.º\n1.ª hora
URL:https://www.liceomonteria.edu.co/evento/acto-civico-grado-11-o-1-a-hora-2/
END:VEVENT
BEGIN:VEVENT
DTSTART;TZID=America/New_York:20230315T110000
DTEND;TZID=America/New_York:20230315T140000
DTSTAMP:20260421T220557
CREATED:20230214T153130Z
LAST-MODIFIED:20230214T153130Z
UID:4111-1678878000-1678888800@www.liceomonteria.edu.co
SUMMARY:Día de la Democracia - Elecciones 6.ª - 7.ª hora
DESCRIPTION:Marzo 15\nDía de la Democracia – Elecciones\n6.ª – 7.ª hora
URL:https://www.liceomonteria.edu.co/evento/dia-de-la-democracia-elecciones-6-a-7-a-hora-2/
END:VEVENT
BEGIN:VEVENT
DTSTART;TZID=America/New_York:20230316T063000
DTEND;TZID=America/New_York:20230323T143000
DTSTAMP:20260421T220557
CREATED:20230214T162518Z
LAST-MODIFIED:20230214T162518Z
UID:4117-1678948200-1679581800@www.liceomonteria.edu.co
SUMMARY:Actividades Complementarias 1er período
DESCRIPTION:Marzo 16-23\nActividades Complementarias 1er período
URL:https://www.liceomonteria.edu.co/evento/actividades-complementarias-1er-periodo-2/
END:VEVENT
BEGIN:VEVENT
DTSTART;TZID=America/New_York:20230321T063000
DTEND;TZID=America/New_York:20230321T143000
DTSTAMP:20260421T220557
CREATED:20230214T153229Z
LAST-MODIFIED:20230214T153327Z
UID:4113-1679380200-1679409000@www.liceomonteria.edu.co
SUMMARY:Edición de Horizonte Liceísta. Grados 11º
DESCRIPTION:Marzo 21\nEdición de Horizonte Liceísta. Grados 11º
URL:https://www.liceomonteria.edu.co/evento/edicion-de-horizonte-liceista-grados-11o-2/
END:VEVENT
BEGIN:VEVENT
DTSTART;TZID=America/New_York:20230321T063000
DTEND;TZID=America/New_York:20230331T143000
DTSTAMP:20260421T220557
CREATED:20230214T162624Z
LAST-MODIFIED:20230214T162624Z
UID:4119-1679380200-1680273000@www.liceomonteria.edu.co
SUMMARY:Digitación de notas del 1er período
DESCRIPTION:Marzo 21-31\nDigitación de notas del 1er período
URL:https://www.liceomonteria.edu.co/evento/digitacion-de-notas-del-1er-periodo-2/
END:VEVENT
BEGIN:VEVENT
DTSTART;TZID=America/New_York:20230324T063000
DTEND;TZID=America/New_York:20230324T143000
DTSTAMP:20260421T220557
CREATED:20230214T162440Z
LAST-MODIFIED:20230214T162440Z
UID:4115-1679639400-1679668200@www.liceomonteria.edu.co
SUMMARY:Iniciación de los Juegos Inter cursos – Copa Liceísta 7:00 a.m.-1:00 p.m.
DESCRIPTION:Marzo 24\nIniciación de los Juegos Inter cursos – Copa Liceísta\n7:00 a.m.-1:00 p.m.
URL:https://www.liceomonteria.edu.co/evento/iniciacion-de-los-juegos-inter-cursos-copa-liceista-700-a-m-100-p-m-2/
END:VEVENT
BEGIN:VEVENT
DTSTART;TZID=America/New_York:20230327T063000
DTEND;TZID=America/New_York:20230331T143000
DTSTAMP:20260421T220557
CREATED:20230214T162710Z
LAST-MODIFIED:20230214T162710Z
UID:4121-1679898600-1680273000@www.liceomonteria.edu.co
SUMMARY:Evaluaciones acumulativas de 1er periodo
DESCRIPTION:Marzo 27-31\nEvaluaciones acumulativas de 1er periodo
URL:https://www.liceomonteria.edu.co/evento/evaluaciones-acumulativas-de-1er-periodo/
END:VEVENT
BEGIN:VEVENT
DTSTART;TZID=America/New_York:20230403T063000
DTEND;TZID=America/New_York:20230407T143000
DTSTAMP:20260421T220557
CREATED:20230214T162833Z
LAST-MODIFIED:20230214T162833Z
UID:4123-1680503400-1680877800@www.liceomonteria.edu.co
SUMMARY:Receso de Semana Santa. Lúdica docente.
DESCRIPTION:Abril 3-7\nReceso de Semana Santa. Lúdica docente.
URL:https://www.liceomonteria.edu.co/evento/receso-de-semana-santa-ludica-docente/
END:VEVENT
BEGIN:VEVENT
DTSTART;TZID=America/New_York:20230405T063000
DTEND;TZID=America/New_York:20230405T143000
DTSTAMP:20260421T220557
CREATED:20230214T162922Z
LAST-MODIFIED:20230214T162922Z
UID:4125-1680676200-1680705000@www.liceomonteria.edu.co
SUMMARY:Reunión de los Comités de Evaluación y Promoción 1er Período. Reunión de Profesores.
DESCRIPTION:Abril 5\nReunión de los Comités de Evaluación y Promoción 1er Período. Reunión de Profesores.
URL:https://www.liceomonteria.edu.co/evento/reunion-de-los-comites-de-evaluacion-y-promocion-1er-periodo-reunion-de-profesores/
END:VEVENT
BEGIN:VEVENT
DTSTART;TZID=America/New_York:20230410T063000
DTEND;TZID=America/New_York:20230410T143000
DTSTAMP:20260421T220557
CREATED:20230214T163009Z
LAST-MODIFIED:20230214T163009Z
UID:4127-1681108200-1681137000@www.liceomonteria.edu.co
SUMMARY:Reiniciación de clases
DESCRIPTION:Abril 10\nReiniciación de clases
URL:https://www.liceomonteria.edu.co/evento/reiniciacion-de-clases-2/
END:VEVENT
BEGIN:VEVENT
DTSTART;TZID=America/New_York:20230413T103000
DTEND;TZID=America/New_York:20230413T143000
DTSTAMP:20260421T220557
CREATED:20230214T163103Z
LAST-MODIFIED:20230214T163103Z
UID:4130-1681381800-1681396200@www.liceomonteria.edu.co
SUMMARY:Entrega de informes del 1.er período. 6.ª - 8.ª hora
DESCRIPTION:Abril 13\nEntrega de informes del 1.er período.\n6.ª – 8.ª hora
URL:https://www.liceomonteria.edu.co/evento/entrega-de-informes-del-1-er-periodo-6-a-8-a-hora/
END:VEVENT
BEGIN:VEVENT
DTSTART;TZID=America/New_York:20230424T080000
DTEND;TZID=America/New_York:20230424T170000
DTSTAMP:20260421T220557
CREATED:20230214T163222Z
LAST-MODIFIED:20230214T163222Z
UID:4132-1682323200-1682355600@www.liceomonteria.edu.co
SUMMARY:Día del Idioma Según programa
DESCRIPTION:Abril 24\nDía del Idioma\nSegún programa
URL:https://www.liceomonteria.edu.co/evento/dia-del-idioma-segun-programa/
END:VEVENT
BEGIN:VEVENT
DTSTART;TZID=America/New_York:20230425T063000
DTEND;TZID=America/New_York:20230425T143000
DTSTAMP:20260421T220557
CREATED:20230214T163312Z
LAST-MODIFIED:20230214T163312Z
UID:4134-1682404200-1682433000@www.liceomonteria.edu.co
SUMMARY:Edición de Horizonte Liceísta. Grados 10º
DESCRIPTION:Abril 25\nEdición de Horizonte Liceísta. Grados 10º
URL:https://www.liceomonteria.edu.co/evento/edicion-de-horizonte-liceista-grados-10o/
END:VEVENT
BEGIN:VEVENT
DTSTART;TZID=America/New_York:20230505T063000
DTEND;TZID=America/New_York:20230505T080000
DTSTAMP:20260421T220557
CREATED:20230214T163555Z
LAST-MODIFIED:20230214T163555Z
UID:4136-1683268200-1683273600@www.liceomonteria.edu.co
SUMMARY:Santa Misa Día de las Madres. 1.ª hora
DESCRIPTION:Mayo 5\nSanta Misa Día de las Madres.\n1.ª hora
URL:https://www.liceomonteria.edu.co/evento/santa-misa-dia-de-las-madres-1-a-hora/
END:VEVENT
BEGIN:VEVENT
DTSTART;TZID=America/New_York:20230511T063000
DTEND;TZID=America/New_York:20230511T080000
DTSTAMP:20260421T220557
CREATED:20230214T163706Z
LAST-MODIFIED:20230214T163706Z
UID:4138-1683786600-1683792000@www.liceomonteria.edu.co
SUMMARY:Acto Cívico Grado 10.º 1.ª hora
DESCRIPTION:Mayo 11\nActo Cívico Grado 10.º\n1.ª hora
URL:https://www.liceomonteria.edu.co/evento/acto-civico-grado-10-o-1-a-hora/
END:VEVENT
BEGIN:VEVENT
DTSTART;TZID=America/New_York:20230515T063000
DTEND;TZID=America/New_York:20230515T143000
DTSTAMP:20260421T220557
CREATED:20230214T163918Z
LAST-MODIFIED:20230214T163918Z
UID:4140-1684132200-1684161000@www.liceomonteria.edu.co
SUMMARY:Día del Educador Jornada completa
DESCRIPTION:Mayo 15\nDía del Educador\nJornada completa
URL:https://www.liceomonteria.edu.co/evento/dia-del-educador-jornada-completa/
END:VEVENT
BEGIN:VEVENT
DTSTART;TZID=America/New_York:20230523T063000
DTEND;TZID=America/New_York:20230523T143000
DTSTAMP:20260421T220557
CREATED:20230214T164050Z
LAST-MODIFIED:20230214T164050Z
UID:4142-1684823400-1684852200@www.liceomonteria.edu.co
SUMMARY:Edición de Horizonte Liceísta. Grado 8.º- 9.º
DESCRIPTION:Mayo 23\nEdición de Horizonte Liceísta. Grado 8.º- 9.º
URL:https://www.liceomonteria.edu.co/evento/edicion-de-horizonte-liceista-grado-8-o-9-o-2/
END:VEVENT
BEGIN:VEVENT
DTSTART;TZID=America/New_York:20230525T063000
DTEND;TZID=America/New_York:20230601T143000
DTSTAMP:20260421T220557
CREATED:20230214T164236Z
LAST-MODIFIED:20230214T164236Z
UID:4146-1684996200-1685629800@www.liceomonteria.edu.co
SUMMARY:Actividades Complementarias 2.º período
DESCRIPTION:Mayo 25 -Junio 1\nActividades Complementarias 2.º período
URL:https://www.liceomonteria.edu.co/evento/actividades-complementarias-2-o-periodo-2/
END:VEVENT
BEGIN:VEVENT
DTSTART;TZID=America/New_York:20230526T063000
DTEND;TZID=America/New_York:20230526T143000
DTSTAMP:20260421T220557
CREATED:20230214T164138Z
LAST-MODIFIED:20230214T164138Z
UID:4144-1685082600-1685111400@www.liceomonteria.edu.co
SUMMARY:English Time at Liceo Montería Según programa
DESCRIPTION:Mayo 26\nEnglish Time at Liceo Montería\nSegún programa
URL:https://www.liceomonteria.edu.co/evento/english-time-at-liceo-monteria-segun-programa-2/
END:VEVENT
BEGIN:VEVENT
DTSTART;TZID=America/New_York:20230529T063000
DTEND;TZID=America/New_York:20230608T143000
DTSTAMP:20260421T220557
CREATED:20230214T164331Z
LAST-MODIFIED:20230214T164331Z
UID:4148-1685341800-1686234600@www.liceomonteria.edu.co
SUMMARY:Digitación de notas 2.º período
DESCRIPTION:Mayo 29 – junio 8\nDigitación de notas 2.º período
URL:https://www.liceomonteria.edu.co/evento/digitacion-de-notas-2-o-periodo/
END:VEVENT
BEGIN:VEVENT
DTSTART;TZID=America/New_York:20230601T063000
DTEND;TZID=America/New_York:20230601T080000
DTSTAMP:20260421T220557
CREATED:20230214T164421Z
LAST-MODIFIED:20230214T164421Z
UID:4150-1685601000-1685606400@www.liceomonteria.edu.co
SUMMARY:Acto Cívico Grado 9.º 1.ª hora
DESCRIPTION:Junio 1\nActo Cívico Grado 9.º\n1.ª hora
URL:https://www.liceomonteria.edu.co/evento/acto-civico-grado-9-o-1-a-hora-2/
END:VEVENT
BEGIN:VEVENT
DTSTART;TZID=America/New_York:20230602T063000
DTEND;TZID=America/New_York:20230608T143000
DTSTAMP:20260421T220557
CREATED:20230214T164506Z
LAST-MODIFIED:20230214T164506Z
UID:4152-1685687400-1686234600@www.liceomonteria.edu.co
SUMMARY:Evaluaciones acumulativas de 2.º periodo
DESCRIPTION:Junio 2 -8\nEvaluaciones acumulativas de 2.º periodo
URL:https://www.liceomonteria.edu.co/evento/evaluaciones-acumulativas-de-2-o-periodo/
END:VEVENT
BEGIN:VEVENT
DTSTART;TZID=America/New_York:20230607T063000
DTEND;TZID=America/New_York:20230607T143000
DTSTAMP:20260421T220557
CREATED:20230214T164552Z
LAST-MODIFIED:20230214T164552Z
UID:4154-1686119400-1686148200@www.liceomonteria.edu.co
SUMMARY:Santa Misa Celebración del Día del Padre. Mañana
DESCRIPTION:Junio 7\nSanta Misa Celebración del Día del Padre.\nMañana
URL:https://www.liceomonteria.edu.co/evento/santa-misa-celebracion-del-dia-del-padre-manana/
END:VEVENT
BEGIN:VEVENT
DTSTART;TZID=America/New_York:20230608T070000
DTEND;TZID=America/New_York:20230608T143000
DTSTAMP:20260421T220557
CREATED:20230214T165238Z
LAST-MODIFIED:20230214T165238Z
UID:4166-1686207600-1686234600@www.liceomonteria.edu.co
SUMMARY:Inicio de inscripciones para alumnos nuevos
DESCRIPTION:Julio 18\nInicio de inscripciones para alumnos nuevos
URL:https://www.liceomonteria.edu.co/evento/inicio-de-inscripciones-para-alumnos-nuevos-2/
END:VEVENT
BEGIN:VEVENT
DTSTART;TZID=America/New_York:20230609T063000
DTEND;TZID=America/New_York:20230609T143000
DTSTAMP:20260421T220557
CREATED:20230214T164635Z
LAST-MODIFIED:20230214T164635Z
UID:4156-1686292200-1686321000@www.liceomonteria.edu.co
SUMMARY:Reunión de los Comités de Evaluación y Promoción 2.º período.
DESCRIPTION:Junio 9\nReunión de los Comités de Evaluación y Promoción 2.º período.
URL:https://www.liceomonteria.edu.co/evento/reunion-de-los-comites-de-evaluacion-y-promocion-2-o-periodo/
END:VEVENT
END:VCALENDAR