BEGIN:VCALENDAR
VERSION:2.0
PRODID:-//Liceo Montería - ECPv5.16.4//NONSGML v1.0//EN
CALSCALE:GREGORIAN
METHOD:PUBLISH
X-WR-CALNAME:Liceo Montería
X-ORIGINAL-URL:https://www.liceomonteria.edu.co
X-WR-CALDESC:Events for Liceo Montería
REFRESH-INTERVAL;VALUE=DURATION:PT1H
X-Robots-Tag:noindex
X-PUBLISHED-TTL:PT1H
BEGIN:VTIMEZONE
TZID:America/New_York
BEGIN:DAYLIGHT
TZOFFSETFROM:-0500
TZOFFSETTO:-0400
TZNAME:EDT
DTSTART:20240310T070000
END:DAYLIGHT
BEGIN:STANDARD
TZOFFSETFROM:-0400
TZOFFSETTO:-0500
TZNAME:EST
DTSTART:20241103T060000
END:STANDARD
END:VTIMEZONE
BEGIN:VEVENT
DTSTART;TZID=America/New_York:20240409T063000
DTEND;TZID=America/New_York:20240409T073000
DTSTAMP:20260421T121357
CREATED:20240424T131227Z
LAST-MODIFIED:20240424T131556Z
UID:5922-1712644200-1712647800@www.liceomonteria.edu.co
SUMMARY:PERIODO II: Santa Misa
DESCRIPTION:Santa Misa \n1.ª hora \nResponsable: Paula Arias
URL:https://www.liceomonteria.edu.co/evento/santa-misa-2/
END:VEVENT
BEGIN:VEVENT
DTSTART;TZID=America/New_York:20240409T070000
DTEND;TZID=America/New_York:20240409T143000
DTSTAMP:20260421T121357
CREATED:20240424T131347Z
LAST-MODIFIED:20240424T131624Z
UID:5924-1712646000-1712673000@www.liceomonteria.edu.co
SUMMARY:PERIODO II: Edición de Horizonte Liceísta. Grados 11º
DESCRIPTION:Edición de Horizonte Liceísta. Grados 11º \nResponsable: Arleth Gutiérrez
URL:https://www.liceomonteria.edu.co/evento/edicion-de-horizonte-liceista-grados-11o-3/
END:VEVENT
BEGIN:VEVENT
DTSTART;TZID=America/New_York:20240410T103000
DTEND;TZID=America/New_York:20240410T143000
DTSTAMP:20260421T121357
CREATED:20240424T131840Z
LAST-MODIFIED:20240424T132222Z
UID:5929-1712745000-1712759400@www.liceomonteria.edu.co
SUMMARY:PERIODO II: Reunión de los Comités de Evaluación y Promoción 1er Período. Reunión de Profesores.
DESCRIPTION:Reunión de los Comités de Evaluación y Promoción 1er Período. Reunión de Profesores. \n6.ª – 8.ª hora \nRESPONSABLES: Rectora\, Directoras\, Docentes
URL:https://www.liceomonteria.edu.co/evento/periodo-ii-reunion-de-los-comites-de-evaluacion-y-promocion-1er-periodo-reunion-de-profesores/
END:VEVENT
BEGIN:VEVENT
DTSTART;TZID=America/New_York:20240412T070000
DTEND;TZID=America/New_York:20240412T143000
DTSTAMP:20260421T121357
CREATED:20240424T132143Z
LAST-MODIFIED:20240424T132143Z
UID:5931-1712905200-1712932200@www.liceomonteria.edu.co
SUMMARY:PERIODO II: Entrega de informes del 1.er período.
DESCRIPTION:Entrega de informes del 1.er período. \n7.ª – 8.ª hora \nRESPONSABLE: Directores de grupo
URL:https://www.liceomonteria.edu.co/evento/periodo-ii-entrega-de-informes-del-1-er-periodo/
END:VEVENT
BEGIN:VEVENT
DTSTART;TZID=America/New_York:20240423T070000
DTEND;TZID=America/New_York:20240423T143000
DTSTAMP:20260421T121357
CREATED:20240424T132526Z
LAST-MODIFIED:20240424T132526Z
UID:5934-1713855600-1713882600@www.liceomonteria.edu.co
SUMMARY:PERIODO II: Día del Idioma
DESCRIPTION:Día del Idioma. \nSegún programa \nRESPONSABLES: Directores de grupo\, Coord. Mayra Izquierdo y docentes de Humanidades
URL:https://www.liceomonteria.edu.co/evento/periodo-ii-dia-del-idioma/
END:VEVENT
BEGIN:VEVENT
DTSTART;TZID=America/New_York:20240507T063000
DTEND;TZID=America/New_York:20240507T073000
DTSTAMP:20260421T121357
CREATED:20240424T132642Z
LAST-MODIFIED:20240424T132642Z
UID:5936-1715063400-1715067000@www.liceomonteria.edu.co
SUMMARY:PERIODO II: Santa Misa Día de las Madres.
DESCRIPTION:Santa Misa Día de las Madres. \n1.ª hora \nRESPONSABLE: Paula Arias
URL:https://www.liceomonteria.edu.co/evento/periodo-ii-santa-misa-dia-de-las-madres/
END:VEVENT
BEGIN:VEVENT
DTSTART;TZID=America/New_York:20240509T063000
DTEND;TZID=America/New_York:20240509T143000
DTSTAMP:20260421T121357
CREATED:20240424T132832Z
LAST-MODIFIED:20240424T132832Z
UID:5938-1715236200-1715265000@www.liceomonteria.edu.co
SUMMARY:PERIODO II: Acto Cívico Grado 10.º
DESCRIPTION:Acto Cívico Grado 10.º \n1.ª hora \nRESPONSABLE: Directora de Grupo 10o
URL:https://www.liceomonteria.edu.co/evento/periodo-ii-acto-civico-grado-10-o/
END:VEVENT
BEGIN:VEVENT
DTSTART;TZID=America/New_York:20240521T063000
DTEND;TZID=America/New_York:20240521T143000
DTSTAMP:20260421T121357
CREATED:20240424T133032Z
LAST-MODIFIED:20240424T133032Z
UID:5940-1716273000-1716301800@www.liceomonteria.edu.co
SUMMARY:PERIODO II: Edición de Horizonte Liceísta. Grado 10º
DESCRIPTION:Edición de Horizonte Liceísta. Grado 10º \nRESPONSABLE: Arleth Gutiérrez\, Grupo 10º
URL:https://www.liceomonteria.edu.co/evento/periodo-ii-edicion-de-horizonte-liceista-grado-10o/
END:VEVENT
BEGIN:VEVENT
DTSTART;TZID=America/New_York:20240523T063000
DTEND;TZID=America/New_York:20240530T143000
DTSTAMP:20260421T121357
CREATED:20240424T133512Z
LAST-MODIFIED:20240424T133512Z
UID:5944-1716445800-1717079400@www.liceomonteria.edu.co
SUMMARY:PERIODO II: Actividades Complementarias 2.º período.
DESCRIPTION:Actividades Complementarias 2.º período. \nJornada completa \nRESPONSABLES: Docentes
URL:https://www.liceomonteria.edu.co/evento/periodo-ii-actividades-complementarias-2-o-periodo/
END:VEVENT
BEGIN:VEVENT
DTSTART;TZID=America/New_York:20240524T063000
DTEND;TZID=America/New_York:20240524T143000
DTSTAMP:20260421T121357
CREATED:20240424T133217Z
LAST-MODIFIED:20240424T134133Z
UID:5942-1716532200-1716561000@www.liceomonteria.edu.co
SUMMARY:PERIODO II: English Time at Liceo Montería
DESCRIPTION:English Time at Liceo Montería \nSegún programa \nRESPONSABLES: Bilingualism coordinator María Espeleta\, English teachers
URL:https://www.liceomonteria.edu.co/evento/periodo-ii-english-time-at-liceo-monteria/
END:VEVENT
BEGIN:VEVENT
DTSTART;TZID=America/New_York:20240525T063000
DTEND;TZID=America/New_York:20240607T143000
DTSTAMP:20260421T121357
CREATED:20240424T133830Z
LAST-MODIFIED:20240424T133830Z
UID:5946-1716618600-1717770600@www.liceomonteria.edu.co
SUMMARY:PERIODO II: Digitación de notas 2.º período
DESCRIPTION:Digitación de notas 2.º período \nhttps://liceomonteria.educa.city/ \nJornada completa \nRESPONSABLES: Docentes
URL:https://www.liceomonteria.edu.co/evento/periodo-ii-digitacion-de-notas-2-o-periodo/
END:VEVENT
BEGIN:VEVENT
DTSTART;TZID=America/New_York:20240531T063000
DTEND;TZID=America/New_York:20240607T143000
DTSTAMP:20260421T121357
CREATED:20240424T134059Z
LAST-MODIFIED:20240424T134059Z
UID:5948-1717137000-1717770600@www.liceomonteria.edu.co
SUMMARY:PERIODO II: Evaluaciones acumulativas de 2.º periodo
DESCRIPTION:Evaluaciones acumulativas de 2.º periodo \nJornada completa \nRESPONSABLES: Docentes
URL:https://www.liceomonteria.edu.co/evento/periodo-ii-evaluaciones-acumulativas-de-2-o-periodo/
END:VEVENT
BEGIN:VEVENT
DTSTART;TZID=America/New_York:20240606T063000
DTEND;TZID=America/New_York:20240606T073000
DTSTAMP:20260421T121357
CREATED:20240424T134445Z
LAST-MODIFIED:20240424T134445Z
UID:5950-1717655400-1717659000@www.liceomonteria.edu.co
SUMMARY:PERIODO II: Acto Cívico Grado 9.º
DESCRIPTION:Acto Cívico Grado 9.º \n1.ª hora \nRESPONSABLES: Directores de grupo 9°
URL:https://www.liceomonteria.edu.co/evento/periodo-ii-acto-civico-grado-9-o/
END:VEVENT
BEGIN:VEVENT
DTSTART;TZID=America/New_York:20240607T063000
DTEND;TZID=America/New_York:20240607T143000
DTSTAMP:20260421T121357
CREATED:20240424T182048Z
LAST-MODIFIED:20240618T142518Z
UID:5964-1717741800-1717770600@www.liceomonteria.edu.co
SUMMARY:✅FIN SEGUNDO PERIODO
DESCRIPTION:
URL:https://www.liceomonteria.edu.co/evento/fin-segundo-periodo/
END:VEVENT
BEGIN:VEVENT
DTSTART;TZID=America/New_York:20240607T080000
DTEND;TZID=America/New_York:20240607T170000
DTSTAMP:20260421T121357
CREATED:20240424T135341Z
LAST-MODIFIED:20240424T135341Z
UID:5952-1717747200-1717779600@www.liceomonteria.edu.co
SUMMARY:PERIODO: Santa Misa Celebración del Día del Padre.
DESCRIPTION:Santa Misa Celebración del Día del Padre. \n1.ª hora \nRESPONSABLES: Paula Arias
URL:https://www.liceomonteria.edu.co/evento/periodo-santa-misa-celebracion-del-dia-del-padre/
END:VEVENT
BEGIN:VEVENT
DTSTART;TZID=America/New_York:20240611T063000
DTEND;TZID=America/New_York:20240611T143000
DTSTAMP:20260421T121357
CREATED:20240424T135558Z
LAST-MODIFIED:20240618T142652Z
UID:5954-1718087400-1718116200@www.liceomonteria.edu.co
SUMMARY:PERIODO II: 📢Inicio de vacaciones intermedias
DESCRIPTION:Inicio de vacaciones intermedias \n 
URL:https://www.liceomonteria.edu.co/evento/periodo-ii-inicio-de-vacaciones-intermedias/
END:VEVENT
BEGIN:VEVENT
DTSTART;TZID=America/New_York:20240703T090000
DTEND;TZID=America/New_York:20240703T143000
DTSTAMP:20260421T121357
CREATED:20240617T153010Z
LAST-MODIFIED:20240618T143822Z
UID:6031-1719997200-1720017000@www.liceomonteria.edu.co
SUMMARY:🟢PERIODO III: 👨‍🏫Reunión de los Comités de Evaluación y Promoción 2.º período.
DESCRIPTION:ACTIVIDAD: \n\n👨‍🏫Reunión de los Comités de Evaluación y Promoción 2.º período.\n\nRESPONSABLES: \n\nRectora\nDirectoras\nDocentes
URL:https://www.liceomonteria.edu.co/evento/periodo-iii-reunion-de-los-comites-de-evaluacion-y-promocion-2-o-periodo-jornada-ludica-docente/
END:VEVENT
BEGIN:VEVENT
DTSTART;TZID=America/New_York:20240703T103000
DTEND;TZID=America/New_York:20240703T143000
DTSTAMP:20260421T121357
CREATED:20240618T143611Z
LAST-MODIFIED:20240618T143936Z
UID:6163-1720002600-1720017000@www.liceomonteria.edu.co
SUMMARY:🟢PERIODO III: 🎭🎶📢Jornada lúdica docente.
DESCRIPTION:ACTIVIDAD: \n\n🎭🎶📢Jornada lúdica docente.\n\nRESPONSABLES: \n\nDocentes.
URL:https://www.liceomonteria.edu.co/evento/%f0%9f%9f%a2periodo-iii-%f0%9f%8e%ad%f0%9f%8e%b6%f0%9f%93%a2jornada-ludica-docente/
END:VEVENT
BEGIN:VEVENT
DTSTART;TZID=America/New_York:20240704T063000
DTEND;TZID=America/New_York:20240704T143000
DTSTAMP:20260421T121357
CREATED:20240617T153848Z
LAST-MODIFIED:20240617T154302Z
UID:6036-1720074600-1720103400@www.liceomonteria.edu.co
SUMMARY:🟢PERIODO III: Reiniciación de clases. 
DESCRIPTION:ACTIVIDAD: \n\nReiniciación de clases.\n\nRESPONSABLE: \n\nComunidad general
URL:https://www.liceomonteria.edu.co/evento/periodo-iii-reiniciacion-de-clases-%f0%9f%9f%a2/
END:VEVENT
BEGIN:VEVENT
DTSTART;TZID=America/New_York:20240709T070000
DTEND;TZID=America/New_York:20240709T080000
DTSTAMP:20260421T121357
CREATED:20240617T154541Z
LAST-MODIFIED:20240617T154541Z
UID:6041-1720508400-1720512000@www.liceomonteria.edu.co
SUMMARY:🟢PERIODO III: Santa Misa.
DESCRIPTION:ACTIVIDAD: \n\nSanta Misa.\n\nRESPONSABLE: \n\nPaula Arias
URL:https://www.liceomonteria.edu.co/evento/%f0%9f%9f%a2periodo-iii-santa-misa/
END:VEVENT
BEGIN:VEVENT
DTSTART;TZID=America/New_York:20240712T123000
DTEND;TZID=America/New_York:20240712T143000
DTSTAMP:20260421T121357
CREATED:20240617T155020Z
LAST-MODIFIED:20240617T155020Z
UID:6043-1720787400-1720794600@www.liceomonteria.edu.co
SUMMARY:🟢PERIODO III: Entrega de Informes del 2.º período a padres de familia\, 7.ª - 8.ª hora
DESCRIPTION:ACTIVIDAD: \n\nEntrega de Informes del 2.º período a padres de familia. 7.ª – 8.ª hora\n\nRESPONSABLES: \n\nDirectores de grupo
URL:https://www.liceomonteria.edu.co/evento/%f0%9f%9f%a2periodo-iii-entrega-de-informes-del-2-o-periodo-a-padres-de-familia-7-a-8-a-hora/
END:VEVENT
BEGIN:VEVENT
DTSTART;TZID=America/New_York:20240716T063000
DTEND;TZID=America/New_York:20240716T143000
DTSTAMP:20260421T121357
CREATED:20240617T155432Z
LAST-MODIFIED:20240617T155432Z
UID:6045-1721111400-1721140200@www.liceomonteria.edu.co
SUMMARY:🟢PERIODO III: 📝Inicio de inscripciones para alumnos nuevos
DESCRIPTION:ACTIVIDAD: \n\nInicio de inscripciones para alumnos nuevos:\n\nhttps://www.liceomonteria.edu.co/admisiones/ \nRESPONSABLE: \n\nAdmisiones
URL:https://www.liceomonteria.edu.co/evento/%f0%9f%9f%a2periodo-iii-%f0%9f%93%9dinicio-de-inscripciones-para-alumnos-nuevos/
END:VEVENT
BEGIN:VEVENT
DTSTART;TZID=America/New_York:20240725T063000
DTEND;TZID=America/New_York:20240725T143000
DTSTAMP:20260421T121357
CREATED:20240617T160724Z
LAST-MODIFIED:20240617T160724Z
UID:6050-1721889000-1721917800@www.liceomonteria.edu.co
SUMMARY:🟢PERIODO III: ✍Edición de Horizonte Liceísta. Grado 8.º- 9.º
DESCRIPTION:ACTIVIDAD: \n\n✍Edición de Horizonte Liceísta. Grado 8.º- 9.º\nhttps://www.liceomonteria.edu.co/horizonte-liceista/\n\nRESPONSABLES: \n\nArleth Gutiérrez Y grupos\n\n 
URL:https://www.liceomonteria.edu.co/evento/%f0%9f%9f%a2periodo-iii-%e2%9c%8dedicion-de-horizonte-liceista-grado-8-o-9-o/
END:VEVENT
BEGIN:VEVENT
DTSTART;TZID=America/New_York:20240725T070000
DTEND;TZID=America/New_York:20240725T080000
DTSTAMP:20260421T121357
CREATED:20240617T155918Z
LAST-MODIFIED:20240617T160237Z
UID:6047-1721890800-1721894400@www.liceomonteria.edu.co
SUMMARY:🟢PERIODO III: 👉Acto Cívico Grado 8.º. 1.ª hora
DESCRIPTION:ACTIVIDAD: \n\nActo Cívico Grado 8.º\n\nRESPONSABLE: \n\nDirectores de grupo
URL:https://www.liceomonteria.edu.co/evento/%f0%9f%9f%a2periodo-iii-acto-civico-grado-8-o-1-a-hora/
END:VEVENT
BEGIN:VEVENT
DTSTART;TZID=America/New_York:20240806T070000
DTEND;TZID=America/New_York:20240806T080000
DTSTAMP:20260421T121357
CREATED:20240617T161104Z
LAST-MODIFIED:20240617T161104Z
UID:6052-1722927600-1722931200@www.liceomonteria.edu.co
SUMMARY:🟢PERIODO III: 🙏Santa Misa. 1.ª hora
DESCRIPTION:ACTIVIDAD: \n\n🙏Santa Misa\n\nRESPONSABLE: \n\nPaula Arias
URL:https://www.liceomonteria.edu.co/evento/%f0%9f%9f%a2periodo-iii-%f0%9f%99%8fsanta-misa-1-a-hora/
END:VEVENT
BEGIN:VEVENT
DTSTART;TZID=America/New_York:20240809T070000
DTEND;TZID=America/New_York:20240809T080000
DTSTAMP:20260421T121357
CREATED:20240617T161527Z
LAST-MODIFIED:20240617T161527Z
UID:6054-1723186800-1723190400@www.liceomonteria.edu.co
SUMMARY:🟢PERIODO III: 👉Acto Cívico Grado 6.º-7.º- 1.ª hora
DESCRIPTION:ACTIVIDAD: \n\n👉Acto Cívico Grado 6º – 7º – 1.ª hora\n\nRESPONSABLES: \n\nDirectores de grupo.
URL:https://www.liceomonteria.edu.co/evento/%f0%9f%9f%a2periodo-iii-%f0%9f%91%89acto-civico-grado-6-o-7-o-1-a-hora/
END:VEVENT
BEGIN:VEVENT
DTSTART;TZID=America/New_York:20240816T063000
DTEND;TZID=America/New_York:20240823T143000
DTSTAMP:20260421T121357
CREATED:20240617T161938Z
LAST-MODIFIED:20240617T161938Z
UID:6056-1723789800-1724423400@www.liceomonteria.edu.co
SUMMARY:🟢PERIODO III: ✍Actividades Complementarias 3.er período. Jornada completa
DESCRIPTION:ACTIVIDAD: \n\n✍Actividades Complementarias 3.er período. Jornada completa\n\nRESPONSABLES: \n\nDocentes
URL:https://www.liceomonteria.edu.co/evento/%f0%9f%9f%a2periodo-iii-%e2%9c%8dactividades-complementarias-3-er-periodo-jornada-completa/
END:VEVENT
BEGIN:VEVENT
DTSTART;TZID=America/New_York:20240820T063000
DTEND;TZID=America/New_York:20240902T143000
DTSTAMP:20260421T121357
CREATED:20240617T162458Z
LAST-MODIFIED:20240617T162816Z
UID:6058-1724135400-1725287400@www.liceomonteria.edu.co
SUMMARY:🟢PERIODO III: 👨‍💻Digitación de notas 3.er período. Jornada completa
DESCRIPTION:ACTIVIDAD: \n\n👨‍💻 Digitación de notas 3.er período. Jornada completa\nhttps://liceomonteria.educa.city/\n\nRESPONSABLES: \n\nDocentes
URL:https://www.liceomonteria.edu.co/evento/%f0%9f%9f%a2periodo-iii-%f0%9f%92%bbdigitacion-de-notas-3-er-periodo-jornada-completa/
END:VEVENT
BEGIN:VEVENT
DTSTART;TZID=America/New_York:20240826T070000
DTEND;TZID=America/New_York:20240830T143000
DTSTAMP:20260421T121357
CREATED:20240617T163130Z
LAST-MODIFIED:20240617T163130Z
UID:6062-1724655600-1725028200@www.liceomonteria.edu.co
SUMMARY:🟢PERIODO III: 📝Evaluaciones Acumulativas de 3.er período. Jornada completa
DESCRIPTION:ACTIVIDAD:  \n\n📝Evaluaciones Acumulativas de 3.er período. Jornada completa\n\nRESPONSABLES: \n\nDocentes
URL:https://www.liceomonteria.edu.co/evento/%f0%9f%9f%a2periodo-iii-%f0%9f%93%9devaluaciones-acumulativas-de-3-er-periodo-jornada-completa/
END:VEVENT
BEGIN:VEVENT
DTSTART;TZID=America/New_York:20240827T070000
DTEND;TZID=America/New_York:20240827T143000
DTSTAMP:20260421T121357
CREATED:20240617T163553Z
LAST-MODIFIED:20240617T163553Z
UID:6064-1724742000-1724769000@www.liceomonteria.edu.co
SUMMARY:🟢PERIODO III: ✍Edición de Horizonte Liceísta. Grado 6.º- 7.º - Jornada completa
DESCRIPTION:ACTIVIDAD: \n\n ✍Edición de Horizonte Liceísta. Grado 6.º- 7.º  – Jornada completa.\nhttps://www.liceomonteria.edu.co/horizonte-liceista/\n\nRESPONSABLES: \n\nArleth Gutiérrez y grupos.
URL:https://www.liceomonteria.edu.co/evento/%f0%9f%9f%a2periodo-iii-%e2%9c%8dedicion-de-horizonte-liceista-grado-6-o-7-o-jornada-completa/
END:VEVENT
END:VCALENDAR