BEGIN:VCALENDAR
VERSION:2.0
PRODID:-//Liceo Montería - ECPv5.16.4//NONSGML v1.0//EN
CALSCALE:GREGORIAN
METHOD:PUBLISH
X-ORIGINAL-URL:https://www.liceomonteria.edu.co
X-WR-CALDESC:Events for Liceo Montería
REFRESH-INTERVAL;VALUE=DURATION:PT1H
X-Robots-Tag:noindex
X-PUBLISHED-TTL:PT1H
BEGIN:VTIMEZONE
TZID:America/New_York
BEGIN:DAYLIGHT
TZOFFSETFROM:-0500
TZOFFSETTO:-0400
TZNAME:EDT
DTSTART:20240310T070000
END:DAYLIGHT
BEGIN:STANDARD
TZOFFSETFROM:-0400
TZOFFSETTO:-0500
TZNAME:EST
DTSTART:20241103T060000
END:STANDARD
BEGIN:DAYLIGHT
TZOFFSETFROM:-0500
TZOFFSETTO:-0400
TZNAME:EDT
DTSTART:20250309T070000
END:DAYLIGHT
BEGIN:STANDARD
TZOFFSETFROM:-0400
TZOFFSETTO:-0500
TZNAME:EST
DTSTART:20251102T060000
END:STANDARD
END:VTIMEZONE
BEGIN:VEVENT
DTSTART;TZID=America/New_York:20241101T063000
DTEND;TZID=America/New_York:20241114T143000
DTSTAMP:20260421T134904
CREATED:20240617T182441Z
LAST-MODIFIED:20240617T182514Z
UID:6125-1730442600-1731594600@www.liceomonteria.edu.co
SUMMARY:🟣PERIODO IV: ✍Evaluaciones finales. Según programa
DESCRIPTION:ACTIVIDAD: \n\n✍Evaluaciones finales. Según programa.\n\nRESPONSABLES: \n\nDocentes
URL:https://www.liceomonteria.edu.co/evento/%f0%9f%9f%a3periodo-iv-%e2%9c%8devaluaciones-finales-segun-programa/
END:VEVENT
BEGIN:VEVENT
DTSTART;TZID=America/New_York:20241107T070000
DTEND;TZID=America/New_York:20241107T090000
DTSTAMP:20260421T134904
CREATED:20240617T183539Z
LAST-MODIFIED:20240617T183539Z
UID:6132-1730962800-1730970000@www.liceomonteria.edu.co
SUMMARY:🟣PERIODO IV: 👉Acto cívico grado 11.º - Despedida. 1.ª hora
DESCRIPTION:ACTIVIDAD: \n\n👉Acto cívico grado 11.º – Despedida. 1.ª hora.\n\nRESPONSABLE: \n\nDir. grupo 11°
URL:https://www.liceomonteria.edu.co/evento/%f0%9f%9f%a3periodo-iv-%f0%9f%91%89acto-civico-grado-11-o-despedida-1-a-hora/
END:VEVENT
BEGIN:VEVENT
DTSTART;TZID=America/New_York:20241115T063000
DTEND;TZID=America/New_York:20241115T143000
DTSTAMP:20260421T134904
CREATED:20240617T184018Z
LAST-MODIFIED:20240617T184018Z
UID:6135-1731652200-1731681000@www.liceomonteria.edu.co
SUMMARY:🟣PERIODO IV: 👨‍🏫Reunión de Comités de Promoción Final.
DESCRIPTION:ACTIVIDAD: \n\n👨‍🏫Reunión de Comités de Promoción Final. Mañana.\n\nRESPONSABLES: \n\nRectora\n\n 
URL:https://www.liceomonteria.edu.co/evento/%f0%9f%9f%a3periodo-iv-%f0%9f%91%a8%f0%9f%8f%abreunion-de-comites-de-promocion-final/
END:VEVENT
BEGIN:VEVENT
DTSTART;TZID=America/New_York:20241115T063000
DTEND;TZID=America/New_York:20241115T143000
DTSTAMP:20260421T134904
CREATED:20240617T184207Z
LAST-MODIFIED:20240617T184207Z
UID:6137-1731652200-1731681000@www.liceomonteria.edu.co
SUMMARY:🟣PERIODO IV: 👨‍🏫Reunión de Profesores. -Cierre proyectos pedagógicos.
DESCRIPTION:ACTIVIDAD: \n\n👨‍🏫Reunión de Profesores. -Cierre proyectos pedagógicos.\n\nRESPONSABLES \n\nDirectoras\nDocentes\n\n 
URL:https://www.liceomonteria.edu.co/evento/%f0%9f%9f%a3periodo-iv-%f0%9f%91%a8%f0%9f%8f%abreunion-de-profesores-cierre-proyectos-pedagogicos/
END:VEVENT
BEGIN:VEVENT
DTSTART;TZID=America/New_York:20241115T160000
DTEND;TZID=America/New_York:20241115T190000
DTSTAMP:20260421T134904
CREATED:20240617T184455Z
LAST-MODIFIED:20240617T184508Z
UID:6139-1731686400-1731697200@www.liceomonteria.edu.co
SUMMARY:🟣PERIODO IV: 👨‍🏫 Publicación del listado de estudiantes para superación.
DESCRIPTION:ACTIVIDAD: \n\n👨‍🏫 Publicación del listado de estudiantes para superación.\n\nRESPONSABLE: \n\nAsistente académica
URL:https://www.liceomonteria.edu.co/evento/%f0%9f%9f%a3periodo-iv-%f0%9f%91%a8%f0%9f%8f%ab-publicacion-del-listado-de-estudiantes-para-superacion/
END:VEVENT
BEGIN:VEVENT
DTSTART;TZID=America/New_York:20241118T080000
DTEND;TZID=America/New_York:20241128T170000
DTSTAMP:20260421T134904
CREATED:20240617T184734Z
LAST-MODIFIED:20240617T184734Z
UID:6142-1731916800-1732813200@www.liceomonteria.edu.co
SUMMARY:🟣PERIODO IV: 👨‍🏫Actividades de Superación. Según programa
DESCRIPTION:ACTIVIDAD: \n\n👨‍🏫Actividades de Superación. Según programa.\n\nRESPONSABLE: \n\nDocentes
URL:https://www.liceomonteria.edu.co/evento/%f0%9f%9f%a3periodo-iv-%f0%9f%91%a8%f0%9f%8f%abactividades-de-superacion-segun-programa/
END:VEVENT
BEGIN:VEVENT
DTSTART;TZID=America/New_York:20241121T170000
DTEND;TZID=America/New_York:20241121T190000
DTSTAMP:20260421T134904
CREATED:20240617T185129Z
LAST-MODIFIED:20240617T185129Z
UID:6144-1732208400-1732215600@www.liceomonteria.edu.co
SUMMARY:🟣PERIODO IV: 👨‍🎓Ceremonia de Graduación del Preescolar. ⌚Hora: 5:00 p.m.
DESCRIPTION:ACTIVIDAD: \n\n👨‍🎓Ceremonia de Graduación del Preescolar. ⌚Hora: 5:00 p.m.\n\nRESPONSABLE: \n\nDir. Primaria y Preescolar
URL:https://www.liceomonteria.edu.co/evento/%f0%9f%9f%a3periodo-iv-%f0%9f%91%a8%f0%9f%8e%93ceremonia-de-graduacion-del-preescolar-%e2%8c%9ahora-500-p-m/
END:VEVENT
BEGIN:VEVENT
DTSTART;TZID=America/New_York:20241128T063000
DTEND;TZID=America/New_York:20241128T143000
DTSTAMP:20260421T134904
CREATED:20240617T190006Z
LAST-MODIFIED:20240617T190006Z
UID:6150-1732775400-1732804200@www.liceomonteria.edu.co
SUMMARY:🟣PERIODO IV: ✅Finalización de Actividades Académicas en Preescolar.
DESCRIPTION:ACTIVIDAD: \n\n✅Finalización de Actividades Académicas en Preescolar.\n\nRESPONSABLE: \n\nDir. Primaria y Preescolar
URL:https://www.liceomonteria.edu.co/evento/%f0%9f%9f%a3periodo-iv-%e2%9c%85finalizacion-de-actividades-academicas-en-preescolar/
END:VEVENT
BEGIN:VEVENT
DTSTART;TZID=America/New_York:20241129T030000
DTEND;TZID=America/New_York:20241129T160000
DTSTAMP:20260421T134904
CREATED:20240617T190753Z
LAST-MODIFIED:20240617T190830Z
UID:6154-1732849200-1732896000@www.liceomonteria.edu.co
SUMMARY:🟣PERIODO IV: 📑Publicación de resultados de Superación. ⌚Hora: 3:00 p.m.
DESCRIPTION:ACTIVIDAD: \n\n📑Publicación de resultados de Superación. ⌚Hora: 3:00 p.m.\n\nRESPONSABLE: \n\nAsistente académica
URL:https://www.liceomonteria.edu.co/evento/%f0%9f%9f%a3periodo-iv-%f0%9f%93%91publicacion-de-resultados-de-superacion-%e2%8c%9ahora-300-p-m/
END:VEVENT
BEGIN:VEVENT
DTSTART;TZID=America/New_York:20241129T063000
DTEND;TZID=America/New_York:20241129T143000
DTSTAMP:20260421T134904
CREATED:20240617T190302Z
LAST-MODIFIED:20240617T190302Z
UID:6152-1732861800-1732890600@www.liceomonteria.edu.co
SUMMARY:🟣PERIODO IV: 👨‍🏫Reunión de Comités Evaluación y Promoción Superación. ⌚Hora: 7:00 a.m.
DESCRIPTION:ACTIVIDAD: \n\n👨‍🏫Reunión de Comités Evaluación y Promoción Superación. ⌚Hora: 7:00 a.m.\n\nRESPONSABLES: \n\nRectora\nDirectoras\nDocentes
URL:https://www.liceomonteria.edu.co/evento/%f0%9f%9f%a3periodo-iv-%f0%9f%91%a8%f0%9f%8f%abreunion-de-comites-evaluacion-y-promocion-superacion-%e2%8c%9ahora-700-a-m/
END:VEVENT
BEGIN:VEVENT
DTSTART;TZID=America/New_York:20241203T170000
DTEND;TZID=America/New_York:20241203T190000
DTSTAMP:20260421T134904
CREATED:20240617T185337Z
LAST-MODIFIED:20240617T185337Z
UID:6146-1733245200-1733252400@www.liceomonteria.edu.co
SUMMARY:🟣PERIODO IV: 👨‍🎓Ceremonia de Clausura de Primaria.. ⌚Hora: 5:00 p.m.
DESCRIPTION:ACTIVIDAD: \n\n👨‍🎓Ceremonia de Clausura de Primaria.. ⌚Hora: 5:00 p.m.\n\nRESPONSABLE \n\nDir. Primaria y Preescolar
URL:https://www.liceomonteria.edu.co/evento/%f0%9f%9f%a3periodo-iv-%f0%9f%91%a8%f0%9f%8e%93ceremonia-de-clausura-de-primaria-%e2%8c%9ahora-500-p-m/
END:VEVENT
BEGIN:VEVENT
DTSTART;TZID=America/New_York:20241205T190000
DTEND;TZID=America/New_York:20241205T210000
DTSTAMP:20260421T134904
CREATED:20240617T185542Z
LAST-MODIFIED:20240617T185542Z
UID:6148-1733425200-1733432400@www.liceomonteria.edu.co
SUMMARY:🟣PERIODO IV: 👨‍🎓Ceremonia de Graduación de Bachilleres ⌚Hora: 7:00 p.m.
DESCRIPTION:ACTIVIDAD:  \n\n👨‍🎓Ceremonia de Graduación de Bachilleres ⌚Hora: 7:00 p.m.\n\nRESPONSABLES: \n\nRectoría
URL:https://www.liceomonteria.edu.co/evento/%f0%9f%9f%a3periodo-iv-%f0%9f%91%a8%f0%9f%8e%93ceremonia-de-graduacion-de-bachilleres-%e2%8c%9ahora-700-p-m/
END:VEVENT
BEGIN:VEVENT
DTSTART;TZID=America/New_York:20241209T063000
DTEND;TZID=America/New_York:20241211T143000
DTSTAMP:20260421T134904
CREATED:20240617T191524Z
LAST-MODIFIED:20240617T191524Z
UID:6157-1733725800-1733927400@www.liceomonteria.edu.co
SUMMARY:🟣PERIODO IV: ✍Matrícula. 📝📢Según programación
DESCRIPTION:ACTIVIDAD: \n\n✍Matrícula. 📅📢Según programación\n\nRESPONSABLES: \n\nRectoría\nGestión Administrativa\nAdmisiones
URL:https://www.liceomonteria.edu.co/evento/%f0%9f%9f%a3periodo-iv-%e2%9c%8dmatricula-%f0%9f%93%9d%f0%9f%93%a2segun-programacion/
END:VEVENT
BEGIN:VEVENT
DTSTART;TZID=America/New_York:20241220T063000
DTEND;TZID=America/New_York:20241220T143000
DTSTAMP:20260421T134904
CREATED:20240618T144208Z
LAST-MODIFIED:20240618T144208Z
UID:6166-1734676200-1734705000@www.liceomonteria.edu.co
SUMMARY:🟣PERIODO IV: ✅Cierre del año lectivo 2024
DESCRIPTION:✅Cierre del año lectivo 2024
URL:https://www.liceomonteria.edu.co/evento/%f0%9f%9f%a3periodo-iv-%e2%9c%85cierre-del-ano-lectivo-2024/
END:VEVENT
BEGIN:VEVENT
DTSTART;TZID=America/New_York:20250107T063000
DTEND;TZID=America/New_York:20250128T143000
DTSTAMP:20260421T134904
CREATED:20250206T221920Z
LAST-MODIFIED:20250206T222858Z
UID:6780-1736231400-1738074600@www.liceomonteria.edu.co
SUMMARY:🔰Planeación y organización institucional.  Inducción a docentes. Jornada completa
DESCRIPTION:HORA \n\nJornada completa\n\nACTIVIDAD \n\nPlaneación y organización institucional.\nInducción a docentes.\n\nRESPONSABLES \n\nRectora\nDirectoras\nPsicología\nGestión Humana
URL:https://www.liceomonteria.edu.co/evento/planeacion-y-organizacion-institucional-induccion-a-docentes-jornada-completa/
END:VEVENT
BEGIN:VEVENT
DTSTART;TZID=America/New_York:20250113T073000
DTEND;TZID=America/New_York:20250124T143000
DTSTAMP:20260421T134904
CREATED:20250206T222607Z
LAST-MODIFIED:20250206T222953Z
UID:6783-1736753400-1737729000@www.liceomonteria.edu.co
SUMMARY:🔰Inducción y nivelación para estudiantes nuevos. Clases pre-saberes 10°-11°.
DESCRIPTION:HORA \n\nSegún horario.\nJornada completa.\n\nACTIVIDAD \n\nInducción y nivelación para estudiantes nuevos. Clases pre-saberes 10°-11°.\n\nRESPONSABLES \n\nPsicología\nDir. Académica
URL:https://www.liceomonteria.edu.co/evento/%f0%9f%94%b0induccion-y-nivelacion-para-estudiantes-nuevos-clases-pre-saberes-10-11/
END:VEVENT
BEGIN:VEVENT
DTSTART;TZID=America/New_York:20250123T063000
DTEND;TZID=America/New_York:20250123T143000
DTSTAMP:20260421T134904
CREATED:20250206T223655Z
LAST-MODIFIED:20250206T223655Z
UID:6793-1737613800-1737642600@www.liceomonteria.edu.co
SUMMARY:🔰Reunión General de Profesores.
DESCRIPTION:HORA \n\nSegún horario.\nJornada completa.\n\nACTIVIDAD \n\nReunión General de Profesores.\n\nRESPONSABLES \n\nRectoría
URL:https://www.liceomonteria.edu.co/evento/%f0%9f%94%b0reunion-general-de-profesores/
END:VEVENT
BEGIN:VEVENT
DTSTART;TZID=America/New_York:20250128T120000
DTEND;TZID=America/New_York:20250128T133000
DTSTAMP:20260421T134904
CREATED:20250206T223254Z
LAST-MODIFIED:20250206T223408Z
UID:6787-1738065600-1738071000@www.liceomonteria.edu.co
SUMMARY:🔰Reunión Padres de Familia de estudiantes nuevos
DESCRIPTION:HORA \n\n12:00 – 1:30 p.m.\n\nACTIVIDAD \n\nReunión Padres de Familia de estudiantes nuevos\n\nRESPONSABLES \n\nRectoría\nDirectoras\nPsicología
URL:https://www.liceomonteria.edu.co/evento/%f0%9f%94%b0reunion-padres-de-familia-de-estudiantes-nuevos/
END:VEVENT
BEGIN:VEVENT
DTSTART;TZID=America/New_York:20250129T063000
DTEND;TZID=America/New_York:20250129T143000
DTSTAMP:20260421T134904
CREATED:20250206T224237Z
LAST-MODIFIED:20250206T224342Z
UID:6795-1738132200-1738161000@www.liceomonteria.edu.co
SUMMARY:🔰Inducción General a estudiantes todos los niveles 🔰Reunión General de Profesores
DESCRIPTION:🔰HORA \n\n6:30 -12:30 a.m.\n12:45 a.m-2:00 p.m.\n\n🔰ACTIVIDAD \n\nInducción General a estudiantes todos los niveles\nReunión General de Profesores\n\n🔰RESPONSABLES \n\nRectora\nPsicología\nDirectoras\nDirectores de grupo
URL:https://www.liceomonteria.edu.co/evento/%f0%9f%94%b0induccion-general-a-estudiantes-todos-los-niveles-%f0%9f%94%b0reunion-general-de-profesores/
END:VEVENT
BEGIN:VEVENT
DTSTART;TZID=America/New_York:20250130T063000
DTEND;TZID=America/New_York:20250130T143000
DTSTAMP:20260421T134904
CREATED:20250206T224701Z
LAST-MODIFIED:20250206T224746Z
UID:6798-1738218600-1738247400@www.liceomonteria.edu.co
SUMMARY:🟡PERIODO I: Iniciación de clases según horario
DESCRIPTION:🔰HORA \n\nJornada completa\n\n🔰ACTIVIDAD \n\nIniciación de clases según horario\n\n🔰RESPONSABLES \n\nDocentes\nDirectores de grupo
URL:https://www.liceomonteria.edu.co/evento/%f0%9f%9f%a1periodo-i-iniciacion-de-clases-segun-horario/
END:VEVENT
BEGIN:VEVENT
DTSTART;TZID=America/New_York:20250203T063000
DTEND;TZID=America/New_York:20250203T143000
DTSTAMP:20260421T134904
CREATED:20250206T225103Z
LAST-MODIFIED:20250206T225103Z
UID:6801-1738564200-1738593000@www.liceomonteria.edu.co
SUMMARY:🟡PERIODO I:Inicio de clases Preescolar
DESCRIPTION:🔰HORA \n\nSegún horario\n9:00 a.m.\n\n🔰ACTIVIDAD \n\nInicio de clases Preescolar\n\n🔰RESPONSABLES \n\nDocentes\nDirectores de grupo
URL:https://www.liceomonteria.edu.co/evento/%f0%9f%9f%a1periodo-iinicio-de-clases-preescolar/
END:VEVENT
BEGIN:VEVENT
DTSTART;TZID=America/New_York:20250204T063000
DTEND;TZID=America/New_York:20250204T143000
DTSTAMP:20260421T134904
CREATED:20250206T225909Z
LAST-MODIFIED:20250206T230821Z
UID:6803-1738650600-1738679400@www.liceomonteria.edu.co
SUMMARY:🟡PERIODO I: 🙏Santa Misa. 1.ª hora
DESCRIPTION:🔰HORA \n\n1.a hora\n\n🔰ACTIVIDAD \n\nInicio de clases Preescolar\n\n🔰RESPONSABLES \n\nSandy Pérez
URL:https://www.liceomonteria.edu.co/evento/%f0%9f%9f%a1periodo-i-santa-misa/
END:VEVENT
BEGIN:VEVENT
DTSTART;TZID=America/New_York:20250206T080000
DTEND;TZID=America/New_York:20250206T170000
DTSTAMP:20260421T134904
CREATED:20250206T233537Z
LAST-MODIFIED:20250206T233537Z
UID:6823-1738828800-1738861200@www.liceomonteria.edu.co
SUMMARY:🟡PERIODO I: 📢Acto Cívico Grado 11°. 1.a hora
DESCRIPTION:🔰HORA \n\n7:00 a.m.\n\n🔰ACTIVIDAD \n\nActo Cívico Grado 11°.\n\n🔰RESPONSABLES \n\nDirector de grupo 11°
URL:https://www.liceomonteria.edu.co/evento/%f0%9f%9f%a1periodo-i-%f0%9f%93%a2acto-civico-grado-11-1-a-hora/
END:VEVENT
BEGIN:VEVENT
DTSTART;TZID=America/New_York:20250219T180000
DTEND;TZID=America/New_York:20250219T200000
DTSTAMP:20260421T134904
CREATED:20250206T230455Z
LAST-MODIFIED:20250206T230455Z
UID:6806-1739988000-1739995200@www.liceomonteria.edu.co
SUMMARY:🟡PERIODO I: Reunión General de Padres de Familia
DESCRIPTION:🔰HORA \n\n6:15 p.m.\n\n🔰ACTIVIDAD \n\nReunión General de Padres de Familia\n\n🔰RESPONSABLES \n\nRectoría
URL:https://www.liceomonteria.edu.co/evento/%f0%9f%9f%a1periodo-i-reunion-general-de-padres-de-familia/
END:VEVENT
BEGIN:VEVENT
DTSTART;TZID=America/New_York:20250225T063000
DTEND;TZID=America/New_York:20250225T143000
DTSTAMP:20260421T134904
CREATED:20250206T231136Z
LAST-MODIFIED:20250206T231605Z
UID:6809-1740465000-1740493800@www.liceomonteria.edu.co
SUMMARY:🟡PERIODO I: 📝Edición de Horizonte Liceísta. Directivas y  profesores
DESCRIPTION:🔰HORA \n\nJornada completa\n\n🔰ACTIVIDAD \n\nEdición de Horizonte Liceísta. Directivas y profesores\n\n🔰RESPONSABLES \n\nArleth Gutiérrez
URL:https://www.liceomonteria.edu.co/evento/%f0%9f%9f%a1periodo-i-edicion-de-horizonte-liceista-directivas-y-profesores/
END:VEVENT
BEGIN:VEVENT
DTSTART;TZID=America/New_York:20250303T063000
DTEND;TZID=America/New_York:20250313T143000
DTSTAMP:20260421T134904
CREATED:20250206T231926Z
LAST-MODIFIED:20250206T231926Z
UID:6815-1740983400-1741876200@www.liceomonteria.edu.co
SUMMARY:🟡PERIODO I: 🗳Campaña electoral
DESCRIPTION:🔰HORA \n\nJornada completa\n\n🔰ACTIVIDAD \n\nCampaña electoral\n\n🔰RESPONSABLES \n\nKarina Ortega y docentes sociales.
URL:https://www.liceomonteria.edu.co/evento/%f0%9f%9f%a1periodo-i-%f0%9f%97%b3campana-electoral/
END:VEVENT
BEGIN:VEVENT
DTSTART;TZID=America/New_York:20250304T063000
DTEND;TZID=America/New_York:20250304T143000
DTSTAMP:20260421T134904
CREATED:20250206T232340Z
LAST-MODIFIED:20250206T232720Z
UID:6817-1741069800-1741098600@www.liceomonteria.edu.co
SUMMARY:🟡PERIODO I: 👫Reunión de Padres de Familia por grados. 👨‍🏫Reunión general de profesores y reuniones por áreas.
DESCRIPTION:🔰HORA \n\n7:00 – 9:00 a.m. – 10:00 a.m.-2:25 p.m.\n\n🔰ACTIVIDAD \n\nReunión de Padres de Familia por grados.\nReunión general de profesores y reuniones por áreas.\n\n🔰RESPONSABLES \n\nDirectores de grupo\nRectora\nDirectoras\nDocentes
URL:https://www.liceomonteria.edu.co/evento/%f0%9f%9f%a1periodo-i-%f0%9f%91%a8%f0%9f%91%a9%f0%9f%91%a7%f0%9f%91%a6reunion-de-padres-de-familia-por-grados-%f0%9f%91%a8%f0%9f%8f%abreunion-general-de-profesore/
END:VEVENT
BEGIN:VEVENT
DTSTART;TZID=America/New_York:20250305T063000
DTEND;TZID=America/New_York:20250305T143000
DTSTAMP:20260421T134904
CREATED:20250206T233058Z
LAST-MODIFIED:20250206T233058Z
UID:6821-1741156200-1741185000@www.liceomonteria.edu.co
SUMMARY:🟡PERIODO I: 🙏Santa Misa. 1.a hora
DESCRIPTION:🔰HORA \n\n7:00 a.m.\n\n🔰ACTIVIDAD \n\nSanta Misa\n\n🔰RESPONSABLES \n\nSandy Pérez
URL:https://www.liceomonteria.edu.co/evento/%f0%9f%9f%a1periodo-i-%f0%9f%99%8fsanta-misa-1-a-hora/
END:VEVENT
BEGIN:VEVENT
DTSTART;TZID=America/New_York:20250314T063000
DTEND;TZID=America/New_York:20250314T143000
DTSTAMP:20260421T134904
CREATED:20250206T233814Z
LAST-MODIFIED:20250206T233814Z
UID:6826-1741933800-1741962600@www.liceomonteria.edu.co
SUMMARY:🟡PERIODO I: 🗳Día de la Democracia - Elecciones. 6.a - 7.a hora
DESCRIPTION:🔰HORA \n\n6.a – 7.a hora\n\n🔰ACTIVIDAD \n\nDía de la Democracia – Elecciones.\n\n🔰RESPONSABLES \n\nKarina Ortega y docentes Sociales
URL:https://www.liceomonteria.edu.co/evento/%f0%9f%9f%a1periodo-i-%f0%9f%97%b3dia-de-la-democracia-elecciones-6-a-7-a-hora/
END:VEVENT
BEGIN:VEVENT
DTSTART;TZID=America/New_York:20250314T063000
DTEND;TZID=America/New_York:20250320T143000
DTSTAMP:20260421T134904
CREATED:20250206T234033Z
LAST-MODIFIED:20250206T234033Z
UID:6828-1741933800-1742481000@www.liceomonteria.edu.co
SUMMARY:🟡PERIODO I: 📖Actividades Complementarias 1er período. Jornada completa
DESCRIPTION:🔰HORA \n\nJornada completa\n\n🔰ACTIVIDAD \n\nActividades Complementarias 1er período.\n\n🔰RESPONSABLES \n\nDocentes
URL:https://www.liceomonteria.edu.co/evento/%f0%9f%9f%a1periodo-i-%f0%9f%93%96actividades-complementarias-1er-periodo-jornada-completa/
END:VEVENT
END:VCALENDAR