BEGIN:VCALENDAR
VERSION:2.0
PRODID:-//Liceo Montería - ECPv5.16.4//NONSGML v1.0//EN
CALSCALE:GREGORIAN
METHOD:PUBLISH
X-ORIGINAL-URL:https://www.liceomonteria.edu.co
X-WR-CALDESC:Events for Liceo Montería
REFRESH-INTERVAL;VALUE=DURATION:PT1H
X-Robots-Tag:noindex
X-PUBLISHED-TTL:PT1H
BEGIN:VTIMEZONE
TZID:America/New_York
BEGIN:DAYLIGHT
TZOFFSETFROM:-0500
TZOFFSETTO:-0400
TZNAME:EDT
DTSTART:20220313T070000
END:DAYLIGHT
BEGIN:STANDARD
TZOFFSETFROM:-0400
TZOFFSETTO:-0500
TZNAME:EST
DTSTART:20221106T060000
END:STANDARD
END:VTIMEZONE
BEGIN:VEVENT
DTSTART;TZID=America/New_York:20221201T070000
DTEND;TZID=America/New_York:20221201T143000
DTSTAMP:20260421T134309
CREATED:20221103T134438Z
LAST-MODIFIED:20221103T134438Z
UID:3841-1669878000-1669905000@www.liceomonteria.edu.co
SUMMARY:Reunión de Comités Evaluación y Promoción Superación -7:00 a.m.
DESCRIPTION:Reunión de Comités Evaluación y Promoción Superación\n7:00 a.m.
URL:https://www.liceomonteria.edu.co/evento/reunion-de-comites-evaluacion-y-promocion-superacion-700-a-m/
END:VEVENT
BEGIN:VEVENT
DTSTART;TZID=America/New_York:20221201T150000
DTEND;TZID=America/New_York:20221201T180000
DTSTAMP:20260421T134309
CREATED:20221103T134535Z
LAST-MODIFIED:20221103T134535Z
UID:3843-1669906800-1669917600@www.liceomonteria.edu.co
SUMMARY:-Publicación de resultados de Superación. -3:00 p.m.
DESCRIPTION:-Publicación de resultados de Superación.\n3:00 p.m.
URL:https://www.liceomonteria.edu.co/evento/publicacion-de-resultados-de-superacion-300-p-m/
END:VEVENT
BEGIN:VEVENT
DTSTART;TZID=America/New_York:20221206T170000
DTEND;TZID=America/New_York:20221206T190000
DTSTAMP:20260421T134309
CREATED:20221103T134631Z
LAST-MODIFIED:20221103T134631Z
UID:3845-1670346000-1670353200@www.liceomonteria.edu.co
SUMMARY:Ceremonia de Clausura de Primaria. -5:00 p.m.
DESCRIPTION:Ceremonia de Clausura de Primaria.\n5:00 p.m.
URL:https://www.liceomonteria.edu.co/evento/ceremonia-de-clausura-de-primaria-500-p-m/
END:VEVENT
BEGIN:VEVENT
DTSTART;TZID=America/New_York:20221209T190000
DTEND;TZID=America/New_York:20221209T200000
DTSTAMP:20260421T134309
CREATED:20221103T134755Z
LAST-MODIFIED:20221103T134755Z
UID:3847-1670612400-1670616000@www.liceomonteria.edu.co
SUMMARY:Ceremonia de Graduación de Bachilleres - 7:00 p.m.
DESCRIPTION:Ceremonia de Graduación de Bachilleres \n7:00 p.m.
URL:https://www.liceomonteria.edu.co/evento/ceremonia-de-graduacion-de-bachilleres-700-p-m/
END:VEVENT
BEGIN:VEVENT
DTSTART;TZID=America/New_York:20221214T063000
DTEND;TZID=America/New_York:20221216T143000
DTSTAMP:20260421T134309
CREATED:20221103T134843Z
LAST-MODIFIED:20221103T134843Z
UID:3849-1670999400-1671201000@www.liceomonteria.edu.co
SUMMARY:Matrícula
DESCRIPTION:Matrícula
URL:https://www.liceomonteria.edu.co/evento/matricula/
END:VEVENT
BEGIN:VEVENT
DTSTART;TZID=America/New_York:20221220T063000
DTEND;TZID=America/New_York:20221220T143000
DTSTAMP:20260421T134309
CREATED:20221103T135032Z
LAST-MODIFIED:20221103T135032Z
UID:3851-1671517800-1671546600@www.liceomonteria.edu.co
SUMMARY:Cierre del año lectivo 2022
DESCRIPTION:Cierre del año lectivo 2022
URL:https://www.liceomonteria.edu.co/evento/cierre-del-ano-lectivo-2022/
END:VEVENT
END:VCALENDAR