BEGIN:VCALENDAR
VERSION:2.0
PRODID:-//Liceo Montería - ECPv5.16.4//NONSGML v1.0//EN
CALSCALE:GREGORIAN
METHOD:PUBLISH
X-WR-CALNAME:Liceo Montería
X-ORIGINAL-URL:https://www.liceomonteria.edu.co
X-WR-CALDESC:Events for Liceo Montería
REFRESH-INTERVAL;VALUE=DURATION:PT1H
X-Robots-Tag:noindex
X-PUBLISHED-TTL:PT1H
BEGIN:VTIMEZONE
TZID:America/New_York
BEGIN:DAYLIGHT
TZOFFSETFROM:-0500
TZOFFSETTO:-0400
TZNAME:EDT
DTSTART:20240310T070000
END:DAYLIGHT
BEGIN:STANDARD
TZOFFSETFROM:-0400
TZOFFSETTO:-0500
TZNAME:EST
DTSTART:20241103T060000
END:STANDARD
END:VTIMEZONE
BEGIN:VEVENT
DTSTART;TZID=America/New_York:20240507T063000
DTEND;TZID=America/New_York:20240507T073000
DTSTAMP:20260423T045957
CREATED:20240424T132642Z
LAST-MODIFIED:20240424T132642Z
UID:5936-1715063400-1715067000@www.liceomonteria.edu.co
SUMMARY:PERIODO II: Santa Misa Día de las Madres.
DESCRIPTION:Santa Misa Día de las Madres. \n1.ª hora \nRESPONSABLE: Paula Arias
URL:https://www.liceomonteria.edu.co/evento/periodo-ii-santa-misa-dia-de-las-madres/
END:VEVENT
BEGIN:VEVENT
DTSTART;TZID=America/New_York:20240509T063000
DTEND;TZID=America/New_York:20240509T143000
DTSTAMP:20260423T045957
CREATED:20240424T132832Z
LAST-MODIFIED:20240424T132832Z
UID:5938-1715236200-1715265000@www.liceomonteria.edu.co
SUMMARY:PERIODO II: Acto Cívico Grado 10.º
DESCRIPTION:Acto Cívico Grado 10.º \n1.ª hora \nRESPONSABLE: Directora de Grupo 10o
URL:https://www.liceomonteria.edu.co/evento/periodo-ii-acto-civico-grado-10-o/
END:VEVENT
BEGIN:VEVENT
DTSTART;TZID=America/New_York:20240521T063000
DTEND;TZID=America/New_York:20240521T143000
DTSTAMP:20260423T045957
CREATED:20240424T133032Z
LAST-MODIFIED:20240424T133032Z
UID:5940-1716273000-1716301800@www.liceomonteria.edu.co
SUMMARY:PERIODO II: Edición de Horizonte Liceísta. Grado 10º
DESCRIPTION:Edición de Horizonte Liceísta. Grado 10º \nRESPONSABLE: Arleth Gutiérrez\, Grupo 10º
URL:https://www.liceomonteria.edu.co/evento/periodo-ii-edicion-de-horizonte-liceista-grado-10o/
END:VEVENT
BEGIN:VEVENT
DTSTART;TZID=America/New_York:20240523T063000
DTEND;TZID=America/New_York:20240530T143000
DTSTAMP:20260423T045957
CREATED:20240424T133512Z
LAST-MODIFIED:20240424T133512Z
UID:5944-1716445800-1717079400@www.liceomonteria.edu.co
SUMMARY:PERIODO II: Actividades Complementarias 2.º período.
DESCRIPTION:Actividades Complementarias 2.º período. \nJornada completa \nRESPONSABLES: Docentes
URL:https://www.liceomonteria.edu.co/evento/periodo-ii-actividades-complementarias-2-o-periodo/
END:VEVENT
BEGIN:VEVENT
DTSTART;TZID=America/New_York:20240524T063000
DTEND;TZID=America/New_York:20240524T143000
DTSTAMP:20260423T045957
CREATED:20240424T133217Z
LAST-MODIFIED:20240424T134133Z
UID:5942-1716532200-1716561000@www.liceomonteria.edu.co
SUMMARY:PERIODO II: English Time at Liceo Montería
DESCRIPTION:English Time at Liceo Montería \nSegún programa \nRESPONSABLES: Bilingualism coordinator María Espeleta\, English teachers
URL:https://www.liceomonteria.edu.co/evento/periodo-ii-english-time-at-liceo-monteria/
END:VEVENT
BEGIN:VEVENT
DTSTART;TZID=America/New_York:20240525T063000
DTEND;TZID=America/New_York:20240607T143000
DTSTAMP:20260423T045957
CREATED:20240424T133830Z
LAST-MODIFIED:20240424T133830Z
UID:5946-1716618600-1717770600@www.liceomonteria.edu.co
SUMMARY:PERIODO II: Digitación de notas 2.º período
DESCRIPTION:Digitación de notas 2.º período \nhttps://liceomonteria.educa.city/ \nJornada completa \nRESPONSABLES: Docentes
URL:https://www.liceomonteria.edu.co/evento/periodo-ii-digitacion-de-notas-2-o-periodo/
END:VEVENT
BEGIN:VEVENT
DTSTART;TZID=America/New_York:20240531T063000
DTEND;TZID=America/New_York:20240607T143000
DTSTAMP:20260423T045957
CREATED:20240424T134059Z
LAST-MODIFIED:20240424T134059Z
UID:5948-1717137000-1717770600@www.liceomonteria.edu.co
SUMMARY:PERIODO II: Evaluaciones acumulativas de 2.º periodo
DESCRIPTION:Evaluaciones acumulativas de 2.º periodo \nJornada completa \nRESPONSABLES: Docentes
URL:https://www.liceomonteria.edu.co/evento/periodo-ii-evaluaciones-acumulativas-de-2-o-periodo/
END:VEVENT
END:VCALENDAR