BEGIN:VCALENDAR
VERSION:2.0
PRODID:-//Liceo Montería - ECPv5.16.4//NONSGML v1.0//EN
CALSCALE:GREGORIAN
METHOD:PUBLISH
X-WR-CALNAME:Liceo Montería
X-ORIGINAL-URL:https://www.liceomonteria.edu.co
X-WR-CALDESC:Events for Liceo Montería
REFRESH-INTERVAL;VALUE=DURATION:PT1H
X-Robots-Tag:noindex
X-PUBLISHED-TTL:PT1H
BEGIN:VTIMEZONE
TZID:America/New_York
BEGIN:DAYLIGHT
TZOFFSETFROM:-0500
TZOFFSETTO:-0400
TZNAME:EDT
DTSTART:20240310T070000
END:DAYLIGHT
BEGIN:STANDARD
TZOFFSETFROM:-0400
TZOFFSETTO:-0500
TZNAME:EST
DTSTART:20241103T060000
END:STANDARD
END:VTIMEZONE
BEGIN:VEVENT
DTSTART;TZID=America/New_York:20240820T063000
DTEND;TZID=America/New_York:20240902T143000
DTSTAMP:20260421T134241
CREATED:20240617T162458Z
LAST-MODIFIED:20240617T162816Z
UID:6058-1724135400-1725287400@www.liceomonteria.edu.co
SUMMARY:🟢PERIODO III: 👨‍💻Digitación de notas 3.er período. Jornada completa
DESCRIPTION:ACTIVIDAD: \n\n👨‍💻 Digitación de notas 3.er período. Jornada completa\nhttps://liceomonteria.educa.city/\n\nRESPONSABLES: \n\nDocentes
URL:https://www.liceomonteria.edu.co/evento/%f0%9f%9f%a2periodo-iii-%f0%9f%92%bbdigitacion-de-notas-3-er-periodo-jornada-completa/
END:VEVENT
BEGIN:VEVENT
DTSTART;TZID=America/New_York:20240905T070000
DTEND;TZID=America/New_York:20240905T080000
DTSTAMP:20260421T134241
CREATED:20240617T164128Z
LAST-MODIFIED:20240617T164250Z
UID:6066-1725519600-1725523200@www.liceomonteria.edu.co
SUMMARY:🟣PERIODO IV: 👉Acto cívico grado 5º - 1.ª hora
DESCRIPTION:ACTIVIDAD: \n\n👉Acto cívico grado 5º\n\nRESPONSABLES: \n\nDirectores de grupo
URL:https://www.liceomonteria.edu.co/evento/%f0%9f%9f%a3periodo-iv-%f0%9f%91%89acto-civico-grado-5o-1-a-hora/
END:VEVENT
BEGIN:VEVENT
DTSTART;TZID=America/New_York:20240906T063000
DTEND;TZID=America/New_York:20240906T143000
DTSTAMP:20260421T134241
CREATED:20240617T165938Z
LAST-MODIFIED:20240617T170031Z
UID:6073-1725604200-1725633000@www.liceomonteria.edu.co
SUMMARY:🟣PERIODO IV: 👨‍🏫Coordinación de la semana cultural.
DESCRIPTION:ACTIVIDAD: \n\n👨‍🏫Coordinación de la semana cultural.\n\nRESPONSABLES: \n\nDocentes
URL:https://www.liceomonteria.edu.co/evento/%f0%9f%9f%a3periodo-iv-%f0%9f%91%a8%f0%9f%8f%ab%e2%9c%94coordinacion-de-la-semana-cultural/
END:VEVENT
BEGIN:VEVENT
DTSTART;TZID=America/New_York:20240906T113000
DTEND;TZID=America/New_York:20240906T143000
DTSTAMP:20260421T134241
CREATED:20240617T165306Z
LAST-MODIFIED:20240617T165306Z
UID:6071-1725622200-1725633000@www.liceomonteria.edu.co
SUMMARY:🟣PERIODO IV: 👨‍🏫 Reunión de comités de Evaluación y Promoción 3.er período. - 6.ª - 8.ª hora
DESCRIPTION:ACTIVIDAD: \n\n👨‍🏫Reunión de comités de Evaluación y Promoción 3.er período. – 6.ª – 8.ª hora\n\nRESPONSABLES: \n\nRectora.\nDirectores
URL:https://www.liceomonteria.edu.co/evento/%f0%9f%9f%a3periodo-iv-%f0%9f%91%a8%f0%9f%8f%ab-reunion-de-comites-de-evaluacion-y-promocion-3-er-periodo-6-a-8-a-hora/
END:VEVENT
BEGIN:VEVENT
DTSTART;TZID=America/New_York:20240910T003000
DTEND;TZID=America/New_York:20240910T143000
DTSTAMP:20260421T134241
CREATED:20240617T170455Z
LAST-MODIFIED:20240617T170553Z
UID:6076-1725928200-1725978600@www.liceomonteria.edu.co
SUMMARY:🟣PERIODO IV: 📑Entrega de Informes del 3.er período a padres de familia. 7.ª - 8.ª hora
DESCRIPTION:ACTIVIDAD: \n\n📑Entrega de Informes del 3.er período a padres de familia.\n\nRESPONSABLES: \n\nDirectores de grupo
URL:https://www.liceomonteria.edu.co/evento/%f0%9f%9f%a3periodo-iv-%f0%9f%93%83entrega-de-informes-del-3-er-periodo-a-padres-de-familia-7-a-8-a-hora/
END:VEVENT
BEGIN:VEVENT
DTSTART;TZID=America/New_York:20240911T063000
DTEND;TZID=America/New_York:20240911T143000
DTSTAMP:20260421T134241
CREATED:20240617T171125Z
LAST-MODIFIED:20240617T172414Z
UID:6079-1726036200-1726065000@www.liceomonteria.edu.co
SUMMARY:🟣🏫PERIODO IV: 🏳Día del Colegio
DESCRIPTION:ACTIVIDAD: \n\n🏫🏳⚪🟡🟢 Día del Colegio: https://www.liceomonteria.edu.co/video-institucional/\n\nRESPONSABLE: \n\nRectora
URL:https://www.liceomonteria.edu.co/evento/%f0%9f%9f%a3periodo-iv-%e2%9a%aa%f0%9f%9f%a1%f0%9f%9f%a2%f0%9f%8f%ab%f0%9f%8f%b3dia-del-colegio/
END:VEVENT
BEGIN:VEVENT
DTSTART;TZID=America/New_York:20240911T063000
DTEND;TZID=America/New_York:20240913T143000
DTSTAMP:20260421T134241
CREATED:20240617T171855Z
LAST-MODIFIED:20240617T172322Z
UID:6086-1726036200-1726237800@www.liceomonteria.edu.co
SUMMARY:🟣PERIODO IV: Semana Cultural Liceísta🎭🎨🎶🧪🧬💉🔬💻🥽🥼⚽🏀⚗🧲 🥇
DESCRIPTION:ACTIVIDAD: \n\n🎭🎨🎶🧪🧬💉🔬💻🥽🥼⚽🏀⚗🧲🥇🎖\nSemana Cultural Liceísta Según programa\n\nRESPONSABLES: \n\nRectoría.\nDirectoras.\nCoordinadores de área.\nDocentes.
URL:https://www.liceomonteria.edu.co/evento/%f0%9f%9f%a3periodo-iv-%f0%9f%8e%ad%f0%9f%8e%a8%f0%9f%8e%b6%f0%9f%a7%aa%f0%9f%a7%ac%f0%9f%92%89%f0%9f%94%ac%f0%9f%92%bbsemana-cultural-liceista/
END:VEVENT
BEGIN:VEVENT
DTSTART;TZID=America/New_York:20240917T063000
DTEND;TZID=America/New_York:20240917T143000
DTSTAMP:20260421T134241
CREATED:20240617T173020Z
LAST-MODIFIED:20240617T173544Z
UID:6097-1726554600-1726583400@www.liceomonteria.edu.co
SUMMARY:🟣PERIODO IV: ✍Edición de Horizonte Liceísta. Grados 1º -2º -3º -4.º -5.º
DESCRIPTION:ACTIVIDAD: \n\n✍Edición de Horizonte Liceísta. Grados 1º -2º -3º -4.º -5.º\nhttps://www.liceomonteria.edu.co/horizonte-liceista/\n\nRESPONSABLES: \n\nArleth Gutiérrez\nDirectores de grupo
URL:https://www.liceomonteria.edu.co/evento/%f0%9f%9f%a3periodo-iv-%e2%9c%8dedicion-de-horizonte-liceista-grados-1o-2o-3o-4-o-5-o/
END:VEVENT
BEGIN:VEVENT
DTSTART;TZID=America/New_York:20240917T070000
DTEND;TZID=America/New_York:20240917T080000
DTSTAMP:20260421T134241
CREATED:20240617T172805Z
LAST-MODIFIED:20240617T172805Z
UID:6095-1726556400-1726560000@www.liceomonteria.edu.co
SUMMARY:🟣PERIODO IV: 🙏Santa Misa
DESCRIPTION:ACTIVIDAD: \n\n🙏Santa Misa. Primera hora\n\nRESPONSABLES: \n\nPaula Arias
URL:https://www.liceomonteria.edu.co/evento/%f0%9f%9f%a3periodo-iv-%f0%9f%99%8fsanta-misa/
END:VEVENT
BEGIN:VEVENT
DTSTART;TZID=America/New_York:20240923T130000
DTEND;TZID=America/New_York:20240923T143000
DTSTAMP:20260421T134241
CREATED:20240617T173402Z
LAST-MODIFIED:20240617T173402Z
UID:6099-1727096400-1727101800@www.liceomonteria.edu.co
SUMMARY:🟣PERIODO IV: 👨‍🏫Reunión de Profesores. Análisis de casos de no renovación del contrato de prestación del servicio. 8.ª hora
DESCRIPTION:ACTIVIDAD: \n\n👨‍🏫 Reunión de Profesores. Análisis de casos de no renovación del contrato de prestación del servicio. 8.ª hora.\n\nRESPONSABLES \n\nDirectora de Disciplina\nDirectores de grupo\nGestión Humana
URL:https://www.liceomonteria.edu.co/evento/%f0%9f%9f%a3periodo-iv-%f0%9f%91%a8%f0%9f%8f%abreunion-de-profesores-analisis-de-casos-de-no-renovacion-del-contrato-de-prestacion-del-servicio-8-a-hora/
END:VEVENT
END:VCALENDAR